BEGIN:VCALENDAR
VERSION:2.0
PRODID:-//ChamberMaster//Event Calendar 2.0//EN
METHOD:PUBLISH
X-PUBLISHED-TTL:P3D
REFRESH-INTERVAL:P3D
CALSCALE:GREGORIAN
BEGIN:VEVENT
DTSTART:20260623T160000Z
DTEND:20260623T163000Z
X-MICROSOFT-CDO-ALLDAYEVENT:FALSE
SUMMARY:Ribbon Cutting Technics Auto Shield
DESCRIPTION:
X-ALT-DESC;FMTTYPE=text/html:
LOCATION:700 N. Jim Wright Frwy. #B3 White Settlement\, 76108
UID:e.2477.21949
SEQUENCE:3
DTSTAMP:20260424T012558Z
URL:https://business.parkercountychamber.com/events/details/ribbon-cutting-technics-auto-shield-21949
END:VEVENT

END:VCALENDAR
