BEGIN:VCALENDAR
VERSION:2.0
PRODID:-//ChamberMaster//Event Calendar 2.0//EN
METHOD:PUBLISH
X-PUBLISHED-TTL:P3D
REFRESH-INTERVAL:P3D
CALSCALE:GREGORIAN
BEGIN:VEVENT
DTSTART:20241130T160000Z
DTEND:20241130T163000Z
X-MICROSOFT-CDO-ALLDAYEVENT:FALSE
SUMMARY:Ribbon Cutting Grand Opening - Com'on Play Kids
DESCRIPTION:Ribbon Cutting Ceremony Alert!\n\nWe are thrilled to announce Com'on Kids Play has joined the Parker County Chamber of Commerce!\n\nJoin us as we celebrate this exciting occasion with a ribbon-cutting ceremony.\n\nDate: November 30\, 2024\n\nTime: 10:00am   10:30am\n\nLocation: 225 Shops Blvd.\, Suite 107 Willow Park\n\nCome together as a community to welcome Com'on Kids Play and show our support for their new venture! Everyone is invited and encouraged to attend.\n\nSee you there!
X-ALT-DESC;FMTTYPE=text/html:<strong><span style="color:black\;"><span style="font-size:18.0pt\;">Ribbon Cutting Ceremony Alert!</span></span></strong><br />\n<span style="color:black\;"><span style="font-family:times new roman\,serif\;"><span style="font-size:18.0pt\;">We are thrilled to announce Com&rsquo\;on Kids Play has joined the Parker County Chamber of Commerce!</span></span></span><br />\n<span style="color:black\;"><span style="font-family:times new roman\,serif\;"><span style="font-size:18.0pt\;">Join us as we celebrate this exciting occasion with a ribbon-cutting ceremony.</span></span></span><br />\n<strong><span style="color:black\;"><span style="font-size:18.0pt\;">Date:</span></span></strong><span style="color:black\;"><span style="font-family:times new roman\,serif\;"><span style="font-size:18.0pt\;"> November 30\, 2024<br />\n<strong>Time:</strong> 10:00am &ndash\; 10:30am<br />\n<strong>Location:</strong> 225 Shops Blvd.\, Suite 107 Willow Park</span></span></span><br />\n<span style="color:black\;"><span style="font-family:times new roman\,serif\;"><span style="font-size:18.0pt\;">Come together as a community to welcome Com&rsquo\;on Kids Play and show our support for their new venture! Everyone is invited and encouraged to attend.</span></span></span><br />\n<span style="color:black\;"><span style="font-family:times new roman\,serif\;"><span style="font-size:18.0pt\;">See you there!</span></span></span>
LOCATION:
UID:e.2477.20045
SEQUENCE:3
DTSTAMP:20260420T033820Z
URL:https://business.parkercountychamber.com/events/details/ribbon-cutting-grand-opening-com-on-play-kids-20045
END:VEVENT

END:VCALENDAR
