BEGIN:VCALENDAR
VERSION:2.0
PRODID:-//ChamberMaster//Event Calendar 2.0//EN
METHOD:PUBLISH
X-PUBLISHED-TTL:P3D
REFRESH-INTERVAL:P3D
CALSCALE:GREGORIAN
BEGIN:VEVENT
DTSTART;VALUE=DATE:20250320
DTEND;VALUE=DATE:20250321
TRANSP:TRANSPARENT
X-MICROSOFT-CDO-ALLDAYEVENT:TRUE
SUMMARY:CASA Hope for Children Light the Path Gala
DESCRIPTION:For over 18 years\, CASA Hope for Children has recruited\, trained\, and supported volunteer Court Appointed Special Advocates (CASAs) to light the path for children in foster care who are experiencing fear\, instability\, hardship\, and an inconceivable trauma. CASA volunteers are your neighbors\, family members and church members committed to serving as a guiding light for children and families during their darkest hours. Your sponsorship ensures that every child in the foster care system in Parker and Palo Pinto counties has a compassionate adult to see\, hear and give a voice to their needs.
X-ALT-DESC;FMTTYPE=text/html:For over 18 years\, CASA Hope for Children has recruited\, trained\, and supported volunteer Court Appointed Special Advocates (CASAs) to light the path for children in foster care who are experiencing fear\, instability\, hardship\, and an inconceivable trauma. CASA volunteers are your neighbors\, family members and church members committed to serving as a guiding light for children and families during their darkest hours. Your sponsorship ensures that every child in the foster care system in Parker and Palo Pinto counties has a compassionate adult to see\, hear and give a voice to their needs.&nbsp\;
LOCATION:Rivers Edge Tin Top
UID:e.2477.20133
SEQUENCE:3
DTSTAMP:20260421T205616Z
URL:https://business.parkercountychamber.com/events/details/casa-hope-for-children-light-the-path-gala-20133
END:VEVENT

END:VCALENDAR
