BEGIN:VCALENDAR
VERSION:2.0
PRODID:-//ChamberMaster//Event Calendar 2.0//EN
METHOD:PUBLISH
X-PUBLISHED-TTL:P3D
REFRESH-INTERVAL:P3D
CALSCALE:GREGORIAN
BEGIN:VEVENT
DTSTART:20220504T163000Z
DTEND:20220504T180000Z
X-MICROSOFT-CDO-ALLDAYEVENT:FALSE
SUMMARY:Zonta Club of Parker County Proudly Presents Status of Women Luncheon
DESCRIPTION:
X-ALT-DESC;FMTTYPE=text/html:
LOCATION:Northside Baptist Church Gym
UID:e.2477.17765
SEQUENCE:3
DTSTAMP:20260425T154808Z
URL:http://business.parkercountychamber.com/events/details/zonta-club-of-parker-county-proudly-presents-status-of-women-luncheon-17765
END:VEVENT

END:VCALENDAR
