BEGIN:VCALENDAR
VERSION:2.0
PRODID:-//ChamberMaster//Event Calendar 2.0//EN
METHOD:PUBLISH
X-PUBLISHED-TTL:P3D
REFRESH-INTERVAL:P3D
CALSCALE:GREGORIAN
BEGIN:VEVENT
DTSTART:20241119T173000Z
DTEND:20241119T190000Z
X-MICROSOFT-CDO-ALLDAYEVENT:FALSE
SUMMARY:YPN Luncheon - The Impact of Purpose & Passion
DESCRIPTION:Description: People desperately want their lives to have purpose and meaning. They want to leave a legacy in their stead\, but often\, they feel stuck trying to find what they are "supposed to be doing". The truth is our purpose can often be lived out in any number of career paths or side projects but not until we know what that purpose is. In this inspirational session\, participants will be given the tools to discover their SHAPE\, which will begin the journey toward finding their purpose. Once someone knows their purpose\, it creates a passion and excitement about life that is contagious and positively impacts the lives of those in their sphere of influence. So this session will also help participants know how to LIVE in order to discover their heart and passion. Everyone was created on purpose\, with purpose\, for a purpose\, and this session is sure to light a fire in every participant so they are compelled to seek out their purpose\, find their passion\, and impact the people around them!\n\n \n\nLearning Objectives Participants will learn: 1. Identify their purpose by narrowing down their specific strengths\, the heart behind their work\, attributes\, personality\, & experiences that make them who they are. 2. Connect with their passion by examining their likes\, interests\, values\, & what fuels their excitement. 3. Recognize how our ability to inspire & impact the people around us is directly connected to our awareness of our purpose and passion.\n\n \n\nSpeaker: Ashley Smalley
X-ALT-DESC;FMTTYPE=text/html:<span style="color:black\;"><span style="font-family:arial\,sans-serif\;"><span style="font-size:11.0pt\;">Description: People desperately want their lives to have purpose and meaning. They want to leave a legacy in their stead\, but often\, they feel stuck trying to find what they are &ldquo\;supposed to be doing&rdquo\;. The truth is our purpose can often be lived out in any number of career paths or side projects but not until we know what that purpose is. In this inspirational session\, participants will be given the tools to discover their SHAPE\, which will begin the journey toward finding their purpose. Once someone knows their purpose\, it creates a passion and excitement about life that is contagious and positively impacts the lives of those in their sphere of influence. So this session will also help participants know how to LIVE in order to discover their heart and passion. Everyone was created on purpose\, with purpose\, for a purpose\, and this session is sure to light a fire in every participant so they are compelled to seek out their purpose\, find their passion\, and impact the people around them!</span></span></span><br />\n&nbsp\;<br />\n<span style="color:black\;"><span style="font-family:arial\,sans-serif\;"><span style="font-size:11.0pt\;">Learning Objectives Participants will learn: 1. Identify their purpose by narrowing down their specific strengths\, the heart behind their work\, attributes\, personality\, &amp\; experiences that make them who they are. 2. Connect with their passion by examining their likes\, interests\, values\, &amp\; what fuels their excitement. 3. Recognize how our ability to inspire &amp\; impact the people around us is directly connected to our awareness of our purpose and passion.</span></span></span><br />\n&nbsp\;<br />\n<span style="color:black\;"><span style="font-family:arial\,sans-serif\;"><span style="font-size:11.0pt\;">Speaker: Ashley Smalley&nbsp\;</span></span></span>
LOCATION:Los Vaqueros West 4899 I-20 Service Road N. Willow Park\, Texas
UID:e.2477.20014
SEQUENCE:3
DTSTAMP:20260423T211710Z
URL:http://business.parkercountychamber.com/events/details/ypn-luncheon-the-impact-of-purpose-passion-20014
END:VEVENT

END:VCALENDAR
