BEGIN:VCALENDAR
VERSION:2.0
PRODID:-//ChamberMaster//Event Calendar 2.0//EN
METHOD:PUBLISH
X-PUBLISHED-TTL:P3D
REFRESH-INTERVAL:P3D
CALSCALE:GREGORIAN
BEGIN:VEVENT
DTSTART:20231114T173000Z
DTEND:20231114T190000Z
X-MICROSOFT-CDO-ALLDAYEVENT:FALSE
SUMMARY:Young Professionals Networking Luncheon
DESCRIPTION:Speaker: Jake Thompson - Small Choices and how to leverage as a leader to create big results.\n\nJake Thompson is a leadership coach and the Chief Encouragement Officer at Compete Every Day\, a brand he started in 2011 by first selling t-shirts out of the trunk of his car.\n\nJake has spent more than a decade working with leaders and organizations worldwide on how they can get better results for themselves and their teams.\n\nHe has been featured in Forbes\, hosts a podcast in the top 1% globally\, and has directly impacted over 75\,000 ambitious leaders.\n\nThrough his entrepreneurial sales experience\, client work\, and research\, Jake has built a proven framework that helps leaders improve their mindset\, habits\, and team development to create more influence as an impactful leader in their organization.\n\nJake lives in Dallas/Fort Worth with his wife\, Elena and their dogs\, Sugar & Donut.
X-ALT-DESC;FMTTYPE=text/html:Speaker: Jake Thompson - Small Choices and how to leverage as a leader to create big results.<br>\nJake Thompson is a leadership coach and the Chief Encouragement Officer at Compete Every Day\, a brand he started in 2011 by first selling t-shirts out of the trunk of his car.<br>\nJake has spent more than a decade working with leaders and organizations worldwide on how they can get better results for themselves and their teams.<br>\nHe has been featured in Forbes\, hosts a podcast in the top 1% globally\, and has directly impacted over 75\,000 ambitious leaders.<br>\nThrough his entrepreneurial sales experience\, client work\, and research\, Jake has built a proven framework that helps leaders improve their mindset\, habits\, and team development to create more influence as an impactful leader in their organization.<br>\nJake lives in Dallas/Fort Worth with his wife\, Elena and their dogs\, Sugar &amp\; Donut.
LOCATION:Weatherford College Emerging Technology and Workforce Building
UID:e.2477.19030
SEQUENCE:3
DTSTAMP:20260424T123611Z
URL:http://business.parkercountychamber.com/events/details/young-professionals-networking-luncheon-19030
END:VEVENT

END:VCALENDAR
