BEGIN:VCALENDAR
VERSION:2.0
PRODID:-//ChamberMaster//Event Calendar 2.0//EN
METHOD:PUBLISH
X-PUBLISHED-TTL:P3D
REFRESH-INTERVAL:P3D
CALSCALE:GREGORIAN
BEGIN:VEVENT
DTSTART:20240227T173000Z
DTEND:20240227T190000Z
X-MICROSOFT-CDO-ALLDAYEVENT:FALSE
SUMMARY:Young Professionals Networking Luncheon
DESCRIPTION:A 'Brand' New You: Don't Sell Yourself Short   You may be great at your job\, but if your skills and image aren't aligning\, you could unknowingly be sabotaging your career. Janet Rehberg reveals how you can create a personal brand that can elevate your professional status and showcase your true worth.
X-ALT-DESC;FMTTYPE=text/html:<strong>A &lsquo\;Brand&rsquo\; New You: Don&rsquo\;t Sell Yourself Short</strong>&nbsp\;&ndash\; You may be great at your job\, but if your skills and image aren&rsquo\;t aligning\, you could unknowingly be sabotaging your career. Janet Rehberg reveals how you can create a personal brand that can elevate your professional status and showcase your true worth.
LOCATION:Weatherford College Emerging Technology Center Third Floor Conference Room
UID:e.2477.19202
SEQUENCE:3
DTSTAMP:20260424T082702Z
URL:http://business.parkercountychamber.com/events/details/young-professionals-networking-luncheon-02-27-2024-19202
END:VEVENT

END:VCALENDAR
