BEGIN:VCALENDAR
VERSION:2.0
PRODID:-//ChamberMaster//Event Calendar 2.0//EN
METHOD:PUBLISH
X-PUBLISHED-TTL:P3D
REFRESH-INTERVAL:P3D
CALSCALE:GREGORIAN
BEGIN:VEVENT
DTSTART:20260519T163000Z
DTEND:20260519T180000Z
X-MICROSOFT-CDO-ALLDAYEVENT:FALSE
SUMMARY:Young Professionals Luncheon
DESCRIPTION:Topic - Bringing it all to the table:  How faith informs leadership.\n\n \n\n   An integrated life matters: Separating work\, personal life\, and faith can lead to moral compromise\; true integrity comes from viewing all areas of life through a single\, God-centered lens rather than segmented rules.\n\n   Faith based leadership: Jesus' teachings and the Beatitudes challenge cultural definitions of success\, reframing hardship as opportunity and grounding leadership in relationship with God\, not status or privilege.\n\n   Integrity over outcomes: Right choices do not always lead to immediate rewards.\n\n   Purpose-driven influence: God uses our talents\, trials\, and workplaces as training grounds to bless others\; leadership that honors God flows from humility\, service\, and doing all things wholeheartedly as unto the Lord.\n\nJACK W. HAYE\n\nJack became the third president of Patrick Henry College in 2015 after 30 years in the banking world as Senior Vice President of Corporate Lending and later as Executive Vice President and National Manager of Treasury Management Consulting. President Haye was a founding member of Patrick Henry College's Board of Trustees in 1998 and served as Chairman of the Board from 1999-2015.\n\nPresident Haye is beloved by the entire PHC community for his wisdom\, his Christian sensitivity\, and his practical insights. In addition to his duties as President\, he teaches Leadership & Organizational Behavior as well as Competitive Strategies in the Economics and Business Analytics program.  He also leads a Leadership and Worldview camp each summer as part of PHC's Teen Leadership Camp program. Jack and his wife\, Carol\, have been married for over 44 years. They are blessed with 1 daughter\, 7 sons\, and many grandchildren.\n\n\n\nCaterer:  Railhead Smokehouse - Sliced Beef\, Chicken Breast\, Mac n cheese\, Green Beans\, pickles\, onions\, bread and bbq sauce\, and chocolate cake
X-ALT-DESC;FMTTYPE=text/html:<span style="font-size:11.0pt\;">Topic -&nbsp\;</span><strong>Bringing it all to the table: &nbsp\;How faith informs leadership.</strong><br />\n&nbsp\;<br />\n<span style="font-family:symbol\;">&middot\;</span>&nbsp\;&nbsp\;<strong>An integrated life matters:</strong>&nbsp\;Separating work\, personal life\, and faith can lead to moral compromise\; true integrity comes from viewing all areas of life through a single\, God-centered lens rather than segmented rules.<br />\n<span style="font-family:symbol\;">&middot\;</span>&nbsp\;&nbsp\;<strong>Faith based leadership:</strong>&nbsp\;Jesus&rsquo\; teachings and the Beatitudes challenge cultural definitions of success\, reframing hardship as opportunity and grounding leadership in relationship with God\, not status or privilege.<br />\n<span style="font-family:symbol\;">&middot\;</span>&nbsp\;&nbsp\;<strong>Integrity over outcomes:</strong>&nbsp\;Right choices do not always lead to immediate rewards.<br />\n<span style="font-family:symbol\;">&middot\;</span>&nbsp\;&nbsp\;<strong>Purpose-driven influence:</strong>&nbsp\;God uses our talents\, trials\, and workplaces as training grounds to bless others\; leadership that honors God flows from humility\, service\, and doing all things wholeheartedly as unto the Lord.<br />\n<strong><span style="color:#AA8F61\;"><span style="font-family:helvetica\,sans-serif\;"><span style="font-size:14.0pt\;">JACK W. HAYE</span></span></span></strong><br />\n<span style="color:#1C374A\;"><span style="font-family:times\,serif\;"><span style="font-size:14.0pt\;">Jack became the third president of Patrick Henry College in 2015 after 30 years in the banking world as Senior Vice President of Corporate Lending and later as Executive Vice President and National Manager of Treasury Management Consulting. President Haye was a founding member of Patrick Henry College&rsquo\;s Board of Trustees in 1998 and served as Chairman of the Board from 1999-2015.</span></span></span><br />\n<span style="color:#1C374A\;"><span style="font-family:times\,serif\;"><span style="font-size:14.0pt\;">President Haye is beloved by the entire PHC community for his wisdom\, his Christian sensitivity\, and his practical insights. In addition to his duties as President\, he teaches&nbsp\;<em>Leadership &amp\; Organizational Behavior</em>&nbsp\;as well as&nbsp\;<em>Competitive Strategies</em>&nbsp\;in the Economics and Business Analytics program.&nbsp\; He also leads a&nbsp\;<em>Leadership and Worldview</em>&nbsp\;camp each summer as part of PHC&rsquo\;s Teen Leadership Camp program. Jack and his wife\, Carol\, have been married for over 44 years. They are blessed with 1 daughter\, 7 sons\, and many grandchildren.</span></span></span><br />\n<br />\n<span style="font-size:14px\;"><span style="font-family: Georgia\, serif\;">Caterer:&nbsp\; Railhead Smokehouse - Sliced Beef\, Chicken Breast\, Mac n cheese\, Green Beans\, pickles\, onions\, bread and bbq sauce\, and chocolate cake</span></span><br />\n<br />\n<br />\n&nbsp\;
LOCATION:First Bank Texas Training Room (Willow Park)
UID:e.2477.21156
SEQUENCE:3
DTSTAMP:20260420T222803Z
URL:http://business.parkercountychamber.com/events/details/young-professionals-luncheon-21156
END:VEVENT

END:VCALENDAR
