BEGIN:VCALENDAR
VERSION:2.0
PRODID:-//ChamberMaster//Event Calendar 2.0//EN
METHOD:PUBLISH
X-PUBLISHED-TTL:P3D
REFRESH-INTERVAL:P3D
CALSCALE:GREGORIAN
BEGIN:VEVENT
DTSTART:20240619T160000Z
DTEND:20240619T170000Z
X-MICROSOFT-CDO-ALLDAYEVENT:FALSE
SUMMARY:YOU are the BRAND- Mastermind and Lunch
DESCRIPTION:More clients choosing you and referring you is what you want. But you struggle to stand out because your personal brand falls short and doesn't rise above the noise. Therefore\, you need a personal brand that gets YOU noticed\, builds YOUR reputation and attracts YOUR ideal clients.\n\nWhat you'll learn:\n\n- How to discover your unique brand DNA\n\n- Winning the attention war in today's noisy world\n\n- How to build trust and connection with your ideal clients\n\n- Three steps to increase your influence and grow your income\n\n- Branding case studies you can swipe and deploy\n\nLunch provided | $5 1 hr non-CE credit\n\nSponsors:\n\nSparkles Belt - Capital Title Weatherford\n\nMegan Becerra - Goosehead Insurance\n\nCindy Davis - First American Home Warranty\n\nStephanie Howard - Ann Aaron Contracting and Roofing\n\nMary Peterson - Elite Foundation Repairs\n\nSheps | 202 Fort Worth Hwy\,\n\nWeatherford\, TX 76087
X-ALT-DESC;FMTTYPE=text/html:<div>More clients choosing you and referring you is what you want. But you struggle to stand out because your personal brand falls short and doesn&#39\;t rise above the noise. Therefore\, you need a personal brand that gets YOU noticed\, builds YOUR reputation and attracts YOUR ideal clients.</div>\n\n<div>What you&#39\;ll learn:<br />\n- How to discover your unique brand DNA<br />\n- Winning the attention war in today&#39\;s noisy world<br />\n- How to build trust and connection with your ideal clients<br />\n- Three steps to increase your influence and grow your income<br />\n- Branding case studies you can swipe and deploy</div>\n\n<div>Lunch provided | $5 1 hr non-CE credit</div>\n\n<div>Sponsors:<br />\nSparkles Belt - Capital Title Weatherford<br />\nMegan Becerra - Goosehead Insurance<br />\nCindy Davis - First American Home Warranty<br />\nStephanie Howard - Ann Aaron Contracting and Roofing<br />\nMary Peterson - Elite Foundation Repairs</div>\n\n<div>Sheps | 202 Fort Worth Hwy\,<br />\nWeatherford\, TX 76087</div>\n
LOCATION:Sheps | 202 Fort Worth Hwy\, Weatherford\, TX 76087
UID:e.2477.19683
SEQUENCE:3
DTSTAMP:20260424T024643Z
URL:http://business.parkercountychamber.com/events/details/you-are-the-brand-mastermind-and-lunch-19683
END:VEVENT

END:VCALENDAR
