BEGIN:VCALENDAR
VERSION:2.0
PRODID:-//ChamberMaster//Event Calendar 2.0//EN
METHOD:PUBLISH
X-PUBLISHED-TTL:P3D
REFRESH-INTERVAL:P3D
CALSCALE:GREGORIAN
BEGIN:VEVENT
DTSTART:20220402T140000Z
DTEND:20220402T183000Z
X-MICROSOFT-CDO-ALLDAYEVENT:FALSE
SUMMARY:Women's Legacy Conference
DESCRIPTION:The Women's Legacy Conference is an annual half-day forum for business professionals that features high-powered guest speakers addressing critical issues foremost in the minds of highly motivated achievers in the corporate world.\n\n\nThe ups and downs of the last two years have highlighted the need for businesswomen to create and execute plans that help them weather the unexpected.?\n\n \n\nThe question is\, how do you do that?\n\n\nThe 6th Annual Women's Legacy Conference will equip you to take on the challenges -- expected and unexpected -- and prosper in the coming year.\n\n\nPROFESSIONAL & LEADERSHIP DEVELOPMENT\n\n\n\n	Hear experts give you valuable insight into how to thrive and chart the future\n\n\n\n\n\n	Invest in yourself\, your career\, and your company\n\n\n\n\n\n	Build powerful leadership skills that will make your business flexible\, nimble\, and successful\n\n\n\n\n\n	Connect and create new business opportunities with like-minded leaders\n\n\n\n\n\n	Build the intellectual capital that will inspire your employees and clients\n\n\nWould you like to be a Legacy Partner? Our goal is to provide a fully integrated experience for all of our attendees and your company. A variety of partnership opportunities is available providing multiple ways for your business and organization to raise awareness about your product and services. Our partnerships are built to give you maximum return and to fit EVERY budget.
X-ALT-DESC;FMTTYPE=text/html:<div>\n<p><span style="font-size:14px">The Women&rsquo\;s Legacy Conference is an annual half-day forum for business professionals that features high-powered guest speakers addressing critical issues foremost in the minds of highly motivated achievers in the corporate world.</span></p>\n</div>\n\n<div><span style="font-size:14px">The ups and downs of the last two years have&nbsp\;highlighted the need for businesswomen to create and execute plans that help them weather the unexpected.?</span><br />\n&nbsp\;</div>\n\n<div><strong><em style="font-size:14px">The question is\, how do you do that?</em></strong></div>\n\n<div>\n<p><span style="font-size:14px">The 6th Annual Women&#39\;s Legacy Conference will equip you to take on the challenges -- expected and unexpected -- and prosper in the coming year.</span></p>\n</div>\n\n<div><span style="font-size:14px"><strong>PROFESSIONAL &amp\; LEADERSHIP DEVELOPMENT</strong></span></div>\n\n<div>\n<ul>\n	<li><span style="font-size:14px">Hear experts give you valuable insight into how to thrive and chart the future</span></li>\n</ul>\n</div>\n\n<div>\n<ul>\n	<li><span style="font-size:14px">Invest in yourself\, your career\, and your company</span></li>\n</ul>\n</div>\n\n<div>\n<ul>\n	<li><span style="font-size:14px">Build powerful leadership skills that will make your business flexible\, nimble\, and successful</span></li>\n</ul>\n</div>\n\n<div>\n<ul>\n	<li><span style="font-size:14px">Connect and create new business opportunities with like-minded leaders</span></li>\n</ul>\n</div>\n\n<div>\n<ul>\n	<li><span style="font-size:14px">Build the intellectual capital that will inspire your employees and clients</span></li>\n</ul>\n</div>\n<span style="background-color:rgb(255\, 255\, 255)\; color:rgb(29\, 33\, 41)\; font-family:helvetica\,arial\,sans-serif\; font-size:14px">Would you like to be a Legacy Partner? Our goal is to provide a fully integrated experience for all of our attendees and your company. A variety of partnership opportunities is available providing multiple ways for your business and organization to raise awareness about your product and services. Our partnerships are built to give you maximum return and to fit EVERY budget.</span>
LOCATION:Oak Ridge Church of Christ 4895 I-20 Service Rd N. Willow Park\, TX 76087
UID:e.2477.17535
SEQUENCE:3
DTSTAMP:20260425T154517Z
URL:http://business.parkercountychamber.com/events/details/women-s-legacy-conference-04-02-2022-17535
END:VEVENT

END:VCALENDAR
