BEGIN:VCALENDAR
VERSION:2.0
PRODID:-//ChamberMaster//Event Calendar 2.0//EN
METHOD:PUBLISH
X-PUBLISHED-TTL:P3D
REFRESH-INTERVAL:P3D
CALSCALE:GREGORIAN
BEGIN:VEVENT
DTSTART:20220313T010000Z
DTEND:20220313T030000Z
X-MICROSOFT-CDO-ALLDAYEVENT:FALSE
SUMMARY:Wine & Words – The Art of Texas: 250 Years
DESCRIPTION:Chandor Gardens Foundation Inc. is pleased to present a Wine & Words evening on March 12\, 2022\, at Chandor Gardens Mansion\, starting at 7:00 P.M. (Doors open at 6:30) with guest speaker Dr. Ron Tyler presenting: The Art of Texas: 250 Years. \n\n \n\nCome and enjoy a glass of wine while Dr. Ron Tyler shares a summary of beautiful illustrations and insights into how the art of Texas has captured the uniquely Texan culture formed over the centuries.\n\n\n\nRon Tyler is the editor of The Art of Texas: 250 Years\, which tells the deeper story of Texas art\, beginning with Spanish colonial paintings and moving through two and a half centuries of art in Texas.\n\nThe Art of Texas: 250 Years is a ten-by-twelve-inch hardcover book with more than 350 full-color illustrations and fourteen essays written by noted scholars\, art historians\, and curators with the intent to analyze and characterize Texas art on a grand scale. The essays in the book are arranged chronologically by subject\, starting with Tyler's essay on the history of Texas art from the eighteenth and early nineteenth centuries and concludes with an essay by K. Robinson Edwards on "Liberty and Lone Star Modernism" in the twentieth century.\n\n \n\nRon Tyler is the retired Director of the Amon Carter Museum of American Art in Fort Worth\, Texas (2006-2011). He is former Professor of History at the University of Texas at Austin and Director of the Texas State Historical Association and the Center for Studies in Texas History at the University (1986-2006)\, during which time he was the editor-in-chief of The New Handbook of Texas (6 vols.\; 1996 and now online) and the Southwestern Historical Quarterly (1986-2004). Before moving to Austin\, he served for eighteen years as Curator of History and Director of Public Programs at the Carter.\n\n \n\nTyler is the author of numerous books on history and art including Santiago Vidaurri and the Southern Confederacy (1973)\, The Slave Narratives of Texas (co-editor\, 1974)\, The Big Bend: A History of the Last Texas Frontier (1975)\, The Cowboy (photographs by Bank Langmore\, 1975)\, Visions of America: Pioneer Artists in a New Land (1983)\, Audubon's Great National Work: The Royal Octavo Edition of The Birds of America (1993)\, Prints of the West (1994)\, and Western Art\, Western History: Collected Essays (2019).\n\n \n\nNote: Ron will be available to sign copies of the book The Art of Texas: 250 Years (a few copies will be available for purchase) after the presentation\, or if you already have a copy bring it with you to have Ron sign it for you. \n\n \n\nTickets are $35 and available online at www.chandorgardensfoundation.org
X-ALT-DESC;FMTTYPE=text/html:<span style="font-size:12px"><span style="font-size:14px"><span style="font-family:calibri\,sans-serif"><strong>Chandor Gardens Foundation Inc.</strong> is pleased to present a Wine &amp\; Words evening on March 12\, 2022\, at Chandor Gardens Mansion\, starting at 7:00 P.M. (Doors open at 6:30) with guest speaker Dr. Ron Tyler presenting: <em>The Art of Texas: 250 Years</em>. </span><br />\n&nbsp\;<br />\n<span style="font-family:calibri\,sans-serif">Come and enjoy a glass of wine while Dr. Ron Tyler shares a summary of beautiful illustrations and insights into how the art of Texas has captured the uniquely Texan culture formed over the centuries.</span></span></span><br />\n<br />\n<span style="font-size:14px"><strong>Ron Tyler</strong> is the editor of&nbsp\;<strong><em>The Art of Texas: 250 Years</em></strong><em>\,&nbsp\;</em>which tells the deeper story of Texas art\, beginning with Spanish colonial paintings and moving through two and a half centuries of art in Texas.<br />\n<em>The Art of Texas: 250 Years</em> is a ten-by-twelve-inch hardcover book with more than 350 full-color illustrations and fourteen essays written by noted scholars\, art historians\, and curators with the intent to analyze and characterize Texas art on a grand scale. The essays in the book are arranged chronologically by subject\, starting with Tyler&rsquo\;s essay on the history of Texas art from the eighteenth and early nineteenth centuries and&nbsp\;concludes with an essay by K. Robinson Edwards on &ldquo\;Liberty and Lone Star Modernism&rdquo\; in the twentieth century.<br />\n&nbsp\;<br />\nRon Tyler is the retired Director of the Amon Carter Museum of American Art in Fort Worth\, Texas (2006-2011). He is former Professor of History at the University of Texas at Austin and Director of the Texas State Historical Association and the Center for Studies in Texas History at the University (1986-2006)\, during which time he was the editor-in-chief of <em>The New Handbook of Texas </em>(6 vols.\; 1996 and now online) and the <em>Southwestern Historical Quarterly </em>(1986-2004). Before moving to Austin\, he served for eighteen years as Curator of History and Director of Public Programs at the Carter.<br />\n&nbsp\;<br />\nTyler is the author of numerous books on history and art including&nbsp\;<em>Santiago Vidaurri and the Southern Confederacy</em>&nbsp\;(1973)\,&nbsp\;<em>The Slave Narratives of Texas</em>&nbsp\;(co-editor\, 1974)\,&nbsp\;<em>The Big Bend: A History of the Last Texas Frontier</em>&nbsp\;(1975)\,&nbsp\;<em>The Cowboy</em>&nbsp\;(photographs by Bank Langmore\, 1975)\,&nbsp\;<em>Visions of America: Pioneer Artists in a New Land</em>&nbsp\;(1983)\,&nbsp\;<em>Audubon&rsquo\;s Great National Work: The Royal Octavo Edition of The Birds of America</em>&nbsp\;(1993)\,&nbsp\;<em>Prints of the West</em>&nbsp\;(1994)\, and&nbsp\;<em>Western Art\, Western History: Collected Essays</em>&nbsp\;(2019).<br />\n&nbsp\;<br />\nNote: Ron will be available to sign copies of the book <strong><em>The Art of Texas: 250 Years</em></strong> (a few copies will be available for purchase) after the presentation\, or if you already have a copy bring it with you to have Ron sign it for you.&nbsp\;<br />\n&nbsp\;<br />\n<span style="font-family:calibri\,sans-serif">Tickets are $35 and available online at <a href="http://www.chandorgardensfoundation.org/">www.chandorgardensfoundation.org</a></span></span>
LOCATION:Chandor Gardens Mansion 711 West Lee Avenue Weatherford\, TX 76086
UID:e.2477.17505
SEQUENCE:3
DTSTAMP:20260425T171023Z
URL:http://business.parkercountychamber.com/events/details/wine-words-the-art-of-texas-250-years-17505
END:VEVENT

END:VCALENDAR
