BEGIN:VCALENDAR
VERSION:2.0
PRODID:-//ChamberMaster//Event Calendar 2.0//EN
METHOD:PUBLISH
X-PUBLISHED-TTL:P3D
REFRESH-INTERVAL:P3D
CALSCALE:GREGORIAN
BEGIN:VEVENT
DTSTART:20231112T010000Z
DTEND:20231112T030000Z
X-MICROSOFT-CDO-ALLDAYEVENT:FALSE
SUMMARY:Wine & Words: “Interiors for Collectors” by John Phifer Marrs
DESCRIPTION:"ONE IS NICE.  TWO IS BETTER. THREE IS A COLLECTION."   JOHN PHIFER MARRS\n\n \n\nJoin us for our ongoing "Wine & Words" Speaker Series the evening of Saturday\, November 11\, 2023 in the Great Room at Chandor Gardens\, Weatherford\, TX to hear interior designer and author John Phifer Marrs speak about designing Interiors for Collectors.  Presented with charm and a magical sense of humor through entertaining stories and anecdotes.\n\n \n\nJohn Phifer Marrs\, an expert interior designer and purveyor of antiques\, presents a luxurious look at unique and beautiful ways to display collected objects of just about anything and everything you can imagine - from arranging in a cabinet to using an entire wing of a house. \n\n \n\nWhen a client has multiple items that could make up a collection\, gathering them and displaying them in a beautiful arrangement is his specialty. But aesthetics aren't the only considerations. Many clients' collections include valuable art\, books\, or historical documents that need to be preserved and protected in the proper casing\, framing\, and lighting.\n\n \n\n"I think everyone should collect something\,"   John Phifer Marrs \n\n \n\nHis book Interiors for Collectors is about the joy of collecting and his passion for displaying just about anything and everything in unique and beautiful ways. It is an inspirational guide for displaying collections exquisitely\, and contains many lavish photographs.\n\nJohn's book Interiors for Collectors will be available for purchase at this event.\n\nBook signing immediately following presentation.\n\n \n\nAbout John Phifer Marrs:\n\nJohn Phifer Marrs is a premier Southern interior designer known for an elegant\, fresh and inviting style often called "The New Southern Style." His interiors reflect his southern roots and combine a sense of the past with comfort and convenience. Funny and irreverent\, with a "Saturday Night Live" sense of humor\, John has been very busy entertaining his A-list clients and creating magical interiors in Texas\, across the United States and in Europe and Central America. His projects include major residences\, vacation homes\, executive offices and even the official residence of a United States Ambassador. In 2014 "D Magazine" named him one of "The Dallas Dozen"   a salute to the twelve most important players in the city.\n\nHis education includes post-graduate studies in the U.S.\, as well as in the European Program at the Parsons School of Design in both Paris and Rome. He is an accredited interior designer\, having successfully completed the NCIDQ Examination\, and is a registered interior designer in the state of Texas.\n\n \n\nPresentation starts at 7:00 P.M.  (Doors Open   6:30 P.M.)\n\n \n\nTickets - $30 (wine/beer included in ticket price)
X-ALT-DESC;FMTTYPE=text/html:<span style="font-size:12px"><span style="font-family:verdana"><strong><span style="color:black">&ldquo\;ONE IS NICE.&nbsp\; TWO IS BETTER. THREE IS A COLLECTION.&rdquo\; &ndash\; JOHN PHIFER MARRS</span></strong><br />\n&nbsp\;<br />\nJoin us for our ongoing &ldquo\;Wine &amp\; Words&rdquo\; Speaker Series the evening of <strong>Saturday\, November 11\, 2023</strong> in the Great Room at Chandor Gardens\, Weatherford\, TX to hear interior designer and author John Phifer Marrs speak about designing <strong>Interiors for Collectors. </strong>&nbsp\;Presented with charm and a magical sense of humor through entertaining stories and anecdotes.<br />\n&nbsp\;<br />\n<span style="color:black">John Phifer Marrs\, an expert interior designer and purveyor of antiques\, presents a luxurious look at unique and beautiful ways to display collected objects of just about anything and everything you can imagine - from arranging in a cabinet to using an entire wing of a house. </span><br />\n&nbsp\;<br />\n<span style="color:#444444">When a client has multiple items that could make up a collection\, gathering them and displaying them in a beautiful arrangement is his specialty. But aesthetics aren&rsquo\;t the only considerations. Many clients&rsquo\; collections include valuable art\, books\, or historical documents that need to be preserved and protected in the proper casing\, framing\, and lighting.</span><br />\n&nbsp\;<br />\n<span style="color:black">&ldquo\;I think everyone should collect something\,&rdquo\; &ndash\; John Phifer Marrs </span><br />\n&nbsp\;<br />\n<span style="color:black">His book<strong> Interiors for Collectors</strong> is about the joy of collecting and his passion for displaying just about anything and everything in unique and beautiful ways. It is </span><span style="color:#444444">an inspirational guide for displaying collections exquisitely\, and contains many lavish photographs.</span><br />\nJohn&rsquo\;s book <strong>Interiors for Collectors</strong> will be available for purchase at this event.<br />\nBook signing immediately following presentation.<br />\n&nbsp\;<br />\nAbout John Phifer Marrs:<br />\nJohn Phifer Marrs is a premier Southern interior designer known for an elegant\, fresh and inviting style often called &ldquo\;The New Southern Style.&rdquo\; His interiors reflect his southern roots and combine a sense of the past with comfort and convenience. Funny and irreverent\, with a &ldquo\;Saturday Night Live&rdquo\; sense of humor\, John has been very busy entertaining his A-list clients and creating magical interiors in Texas\, across the United States and in Europe and Central America. His projects include major residences\, vacation homes\, executive offices and even the official residence of a United States Ambassador. In 2014 &ldquo\;D Magazine&rdquo\; named him one of &ldquo\;The Dallas Dozen&rdquo\; &ndash\; a salute to the twelve most important players in the city.<br />\nHis education includes post-graduate studies in the U.S.\, as well as in the European Program at the Parsons School of Design in both Paris and Rome. He is an accredited interior designer\, having successfully completed the NCIDQ Examination\, and is a registered interior designer in the state of Texas.<br />\n&nbsp\;<br />\n<span style="color:black">Presentation starts at 7:00 P.M.&nbsp\; (Doors Open &ndash\; 6:30 P.M.)</span><br />\n&nbsp\;<br />\n<strong><span style="color:black">Tickets - $30</span></strong><span style="color:black"> (wine/beer included in ticket price)</span></span></span>
LOCATION:Chandor Gardens 711 W Lee Ave Weatherford\, TX
UID:e.2477.19015
SEQUENCE:3
DTSTAMP:20260424T140149Z
URL:http://business.parkercountychamber.com/events/details/wine-words-interiors-for-collectors-by-john-phifer-marrs-19015
END:VEVENT

END:VCALENDAR
