BEGIN:VCALENDAR
VERSION:2.0
PRODID:-//ChamberMaster//Event Calendar 2.0//EN
METHOD:PUBLISH
X-PUBLISHED-TTL:P3D
REFRESH-INTERVAL:P3D
CALSCALE:GREGORIAN
BEGIN:VEVENT
DTSTART:20241117T010000Z
DTEND:20241117T030000Z
X-MICROSOFT-CDO-ALLDAYEVENT:FALSE
SUMMARY:Wine & Words: Cindy Dees - Former Airforce Pilot & Bestselling Author
DESCRIPTION:Chandor Gardens Foundation invites you to the next Wine & Words event on Saturday\, November 16\, 2024 at Chandor Gardens with New York Times and USA Today bestselling author Cindy Dees sharing stories about her time in the Air Force\, how she became an author\, and about her newest series of spy thriller books.  Doors open at 6:30 PM and the talk starts at 7:30 PM.\n\n \n\nAs a former Air Force pilot   the youngest female pilot in its history   Texan Cindy Dees flew supersonic jets\, VIP airlift\, and the C-5 Galaxy\, one of the world's largest cargo airplanes. She also worked in intelligence\, traveling to forty-two countries on five continents. She was detained by the KGB and East German secret police\, got shot at\, flew in the first Gulf War\, and amassed a lifetime's worth of life experience to fuel her stories of life on the edge of danger.\n\n \n\nAs a military veteran who worked in intelligence\, Cindy's real-life experiences supercharge her novels with authenticity while offering readers an intimate insider's look at government intelligence.\n\n \n\nFrom former spy-turned-New York Times bestselling author Cindy Dees\, comes SECOND SHOT (Book 1 released May 2023) and DOUBLE TAP (Book 2\, released May 2024) the exhilaratingly sharp\, action-packed thriller series featuring the unforgettable Helen Warwick\, a highly skilled CIA assassin of a certain age who's trying to navigate retirement\, settle into a normal life\, and reconnect with her family meets with resistance from enemies old and new. A government assassin. A sociopathic killer. Hunters and the hunted in the ultimate game of deception\, double-cross\, and death.\n\n\n\nCLICK HERE TO PURCHASE TICKETS
X-ALT-DESC;FMTTYPE=text/html:Chandor Gardens Foundation invites you to the next Wine &amp\; Words event on Saturday\, November 16\, 2024 at Chandor Gardens with <em>New York Times</em>&nbsp\;and&nbsp\;<em>USA Today</em>&nbsp\;bestselling author <strong>Cindy Dees </strong>sharing stories about her time in the Air Force\, how she became an author\, and about her newest series of spy thriller books. &nbsp\;Doors open at 6:30 PM and the talk starts at 7:30 PM.<br />\n&nbsp\;<br />\nAs a former Air Force pilot &ndash\; the youngest female pilot in its history &ndash\; Texan <strong>Cindy Dees </strong>flew supersonic jets\, VIP airlift\, and the C-5 Galaxy\, one of the world&rsquo\;s largest cargo airplanes. She also worked in intelligence\, traveling to forty-two countries on five continents. She was detained by the KGB and East German secret police\, got shot at\, flew in the first Gulf War\, and amassed a lifetime&rsquo\;s worth of life experience to fuel her stories of life on the edge of danger.<br />\n&nbsp\;<br />\nAs a military veteran who worked in intelligence\, Cindy&rsquo\;s real-life experiences supercharge her novels with authenticity while offering readers an intimate insider&#39\;s look at government intelligence.<br />\n&nbsp\;<br />\nFrom former spy-turned-New York Times bestselling author Cindy Dees\, comes <strong>SECOND SHOT</strong> (Book 1 released May 2023) and <strong>DOUBLE TAP</strong> (Book 2\, released May 2024) the exhilaratingly sharp\, action-packed thriller series featuring the unforgettable Helen Warwick\, a highly skilled CIA assassin of a certain age who&rsquo\;s trying to navigate retirement\, settle into a normal life\, and reconnect with her family <strong><span style="color:#2F2F2F"><span style="font-family:calibri\,sans-serif">meets with resistance from enemies old and new.</span></span></strong> A government assassin. A sociopathic killer. Hunters and the hunted in the ultimate game of deception\, double-cross\, and death.<br />\n<br />\n<a href="https://www.eventbrite.com/e/wine-words-cindy-dees-former-airforce-pilot-bestselling-author-tickets-1044357460277" target="_blank"><strong>CLICK HERE TO PURCHASE TICKETS</strong></a>
LOCATION:Chandor Gardens 711 W. Lee Ave Weatherford\, TX 76086
UID:e.2477.20020
SEQUENCE:3
DTSTAMP:20260423T211520Z
URL:http://business.parkercountychamber.com/events/details/wine-words-cindy-dees-former-airforce-pilot-bestselling-author-20020
END:VEVENT

END:VCALENDAR
