BEGIN:VCALENDAR
VERSION:2.0
PRODID:-//ChamberMaster//Event Calendar 2.0//EN
METHOD:PUBLISH
X-PUBLISHED-TTL:P3D
REFRESH-INTERVAL:P3D
CALSCALE:GREGORIAN
BEGIN:VEVENT
DTSTART:20240519T000000Z
DTEND:20240519T020000Z
X-MICROSOFT-CDO-ALLDAYEVENT:FALSE
SUMMARY:Wine & Words: "Big Sky Music - The Western Film Score" at Chandor Gardens
DESCRIPTION:An exploration into the music that has defined the soundtrack for countless Western films over the past 100 years!\n\n\n\nChandor Gardens Foundation invites you to the next instalment in the ongoing Wine & Words Speaker Series with Dr. Paul Cortese\, Assistant Director for Operations in the TCU School of Music presenting "Big Sky Music! - The Western Film Score" at Chandor Gardens on Saturday\, May 18\, 2024\n\n\n\nCowboys\, Indians\, gunfights\, and adventures on the frontier have all been represented by various musical treatments. Dr Cortese will highlight the composers who developed the 'horse opera' score\, while examining the musical language and devices used to transport the audience to another time and place the American Old West.\n\n\n\nThe film score creates a film's emotion and mood for each scene. Western movies have not only masterfully used music to communicate emotions and mood to the audience\, but to also influence the emotions and moods of the audience. Dr Cortese will be sharing music and film clips from well-known Western movies showing how the film score plays such an integral role to the overall audience experience.\n\n\n\nThe presentation starts at 7:00 P.M. (doors open at 6:30 P.M.)\n\nTickets: $30 (includes wine & beer)\n\n\n\nCLICK HERE TO PURCHASE TICKETS
X-ALT-DESC;FMTTYPE=text/html:<strong><span style="color:#39364F"><span style="font-family:calibri\,sans-serif">An exploration into the music that has defined the soundtrack for countless Western films over the past 100 years!</span></span></strong><br />\n<br />\n<span style="color:black"><span style="font-family:calibri\,sans-serif">Chandor Gardens Foundation invites you to the next instalment in the ongoing Wine &amp\; Words Speaker Series with Dr. Paul Cortese\, Assistant Director for Operations in the TCU School of Music presenting&nbsp\;&quot\;Big Sky Music! - The Western Film Score&quot\;&nbsp\;at Chandor Gardens on&nbsp\;Saturday\, May 18\, 2024</span></span><br />\n<br />\n<span style="font-family:calibri\,sans-serif">Cowboys\, Indians\, gunfights\, and adventures on the frontier have all been represented by various musical treatments. Dr Cortese will highlight the composers who developed the &lsquo\;horse opera&rsquo\; score\, while examining the musical language and devices used to transport the audience to another time and place&mdash\;the American Old West.</span><br />\n<br />\n<span style="font-family:calibri\,sans-serif">The film score creates a film&#39\;s emotion and mood for each scene. Western movies have not only masterfully used music to communicate emotions and mood to the audience\, but to also influence the emotions and moods of the audience. Dr Cortese will be sharing music and film clips from well-known Western movies showing how the film score plays such an integral role to the overall audience experience.</span><br />\n<br />\n<span style="font-family:calibri\,sans-serif">The presentation starts at 7:00 P.M. (doors open at 6:30 P.M.)</span><br />\n<strong><span style="font-family:calibri\,sans-serif">Tickets: $30</span></strong><span style="font-family:calibri\,sans-serif">&nbsp\;(includes wine &amp\; beer)<br />\n<br />\n<strong><a href="https://www.eventbrite.com/e/wine-words-big-sky-music-the-western-film-score-tickets-878684588257"><span style="background-color:#00FF00">CLICK HERE TO PURCHASE TICKETS</span></a></strong></span><br />\n&nbsp\;
LOCATION:Chandor Gardens 711 W Lee Ave Weatherford\, TX 76085
UID:e.2477.19393
SEQUENCE:3
DTSTAMP:20260424T041410Z
URL:http://business.parkercountychamber.com/events/details/wine-words-big-sky-music-the-western-film-score-at-chandor-gardens-19393
END:VEVENT

END:VCALENDAR
