BEGIN:VCALENDAR
VERSION:2.0
PRODID:-//ChamberMaster//Event Calendar 2.0//EN
METHOD:PUBLISH
X-PUBLISHED-TTL:P3D
REFRESH-INTERVAL:P3D
CALSCALE:GREGORIAN
BEGIN:VEVENT
DTSTART:20250320T233000Z
DTEND:20250321T020000Z
X-MICROSOFT-CDO-ALLDAYEVENT:FALSE
SUMMARY:Wine & Music: Opus Nova “A La Cart” Chamber Music Concert
DESCRIPTION:Chandor Gardens Foundation is excited to welcome back Fort-Worth-based Opus Nova\, Chamber Music Series "  La Carte" to the Great Room of Chandor Gardens in Weatherford\, TX on Thursday\, March 20\, 2025 with a one-of-a-kind concert where you decide the program!\n\n\n\nEach audience member will receive a musical menu featuring works from Baroque to Contemporary\, Classical to Jazz enjoy the show you the audience help to create\, as your musical choices lead the direction of the evening.\n\n\n\nThe concert includes a complimentary pre-concert reception from 6:30 PM to 7:00 PM with refreshments and hors d'oeuvres. Enjoy this wonderful chamber music concert played by outstanding artists in an intimate atmosphere. Share the moment with fellow music lovers and artists.\n\n\n\nFor this concert\, we are very excited to have Mikhail Bersetnev\, who was praised by Theater Jones as "an astonishingly gifted pianist"\, Stas Chernyshev & Ann Hung   clarinetists and founders of Opus Nova\, and Sedici Strings\, a string quartet comprised of Fort Worth Symphony Orchestra musicians - Jen Betz & Molly Baer on violins\, Dmitry Kustanovich on viola\, and Allan Steele on cello. \n\n\n\nCLICK HERE TO PURCHASE TICKETS
X-ALT-DESC;FMTTYPE=text/html:<span style="font-size:12.0pt">Chandor Gardens Foundation is excited to welcome back Fort-Worth-based <strong>Opus Nova\, Chamber Music Series &quot\;&Agrave\; La Carte&quot\; to the Great Room of Chandor Gardens in Weatherford\, TX on Thursday\, March 20\, 2025</strong> with a one-of-a-kind concert where you decide the program!</span><br />\n<br />\n<span style="font-size:12.0pt">Each audience member will receive a musical menu featuring works from Baroque to Contemporary\, Classical to Jazz&mdash\;enjoy the show you the audience help to create\, as your musical choices lead the direction of the evening.</span><br />\n<br />\n<span style="font-size:12.0pt"><strong>The concert includes a complimentary pre-concert reception from 6:30 PM to 7:00 PM with refreshments and hors d&rsquo\;oeuvres.</strong> Enjoy this wonderful chamber music concert played by outstanding artists in an intimate atmosphere. Share the moment with fellow music lovers and artists.<br />\n<br />\nFor this concert\, we are very excited to have <strong>Mikhail Bersetnev\,</strong> who was praised by Theater Jones as &quot\;an astonishingly gifted pianist&quot\;\, <strong>Stas Chernyshev &amp\; Ann Hung</strong> &ndash\; clarinetists and founders of Opus Nova\, and Sedici Strings\, a string quartet comprised of Fort Worth Symphony Orchestra musicians - <strong>Jen Betz &amp\; Molly Baer</strong> on violins\, <strong>Dmitry Kustanovich</strong> on viola\, and <strong>Allan Steele</strong> on cello.&nbsp\;<br />\n<br />\n<strong><a href="https://www.eventbrite.com/e/wine-music-opus-nova-a-la-carte-concert-tickets-1256938379529?aff=oddtdtcreator" target="_blank">CLICK HERE TO PURCHASE TICKETS</a>&nbsp\;&nbsp\;</strong> </span>
LOCATION:Chandor Gardens 711 W. Lee Ave Weatherford\, TX 76086
UID:e.2477.20312
SEQUENCE:3
DTSTAMP:20260423T115036Z
URL:http://business.parkercountychamber.com/events/details/wine-music-opus-nova-a-la-cart-chamber-music-concert-20312
END:VEVENT

END:VCALENDAR
