BEGIN:VCALENDAR
VERSION:2.0
PRODID:-//ChamberMaster//Event Calendar 2.0//EN
METHOD:PUBLISH
X-PUBLISHED-TTL:P3D
REFRESH-INTERVAL:P3D
CALSCALE:GREGORIAN
BEGIN:VEVENT
DTSTART:20240601T150000Z
DTEND:20240601T220000Z
X-MICROSOFT-CDO-ALLDAYEVENT:FALSE
SUMMARY:Willow Park Palooza
DESCRIPTION:Get ready for some serious family fun because The Shops at Willow Park are back with their annual event\, Willow Park Palooza! The event promises to be a blast for parents and kids alike\, with live music\, face painting\, balloon artists\, food trucks\, local vendors\, and even a car show! It will be an unforgettable day filled with fun and excitement\, so don't miss out on this spectacular event!
X-ALT-DESC;FMTTYPE=text/html:<span style="color:rgb(85\, 85\, 85)\; font-family:sweet sans regular\,montserrat\,arial\,sans-serif\; font-size:18px">Get ready for some serious family fun because The Shops at Willow Park are back with their annual event\, Willow Park Palooza! The event promises to be a blast for parents and kids alike\, with live music\, face painting\, balloon artists\, food trucks\, local vendors\, and even a car show! It will be an unforgettable day filled with fun and excitement\, so don&#39\;t miss out on this spectacular event!</span>
LOCATION:The Shops at Willow Park 210 Shops Blvd. Willow Park\, TX 76087
UID:e.2477.19400
SEQUENCE:3
DTSTAMP:20260424T025520Z
URL:http://business.parkercountychamber.com/events/details/willow-park-palooza-04-27-2024-19400
END:VEVENT

END:VCALENDAR
