BEGIN:VCALENDAR
VERSION:2.0
PRODID:-//ChamberMaster//Event Calendar 2.0//EN
METHOD:PUBLISH
X-PUBLISHED-TTL:P3D
REFRESH-INTERVAL:P3D
CALSCALE:GREGORIAN
BEGIN:VEVENT
DTSTART:20210918T180000Z
DTEND:20210918T220000Z
X-MICROSOFT-CDO-ALLDAYEVENT:FALSE
SUMMARY:Willow Bark
DESCRIPTION:SAVE THE DATE!!! \nThe city of Willow Park is hosting a community event on September 18th\, Willow Bark\, benefiting Parker Paws\, a fun filled day for hoomans and their K9s with lots of activities planned\, including-  food trucks\, live music\, kids games\, dog costume contest\, and wiener dog races. \n\nWe are very excited to be able to get back out in the community!!
X-ALT-DESC;FMTTYPE=text/html:<div style="text-align: center\;"><span style="font-size:12px"><strong>SAVE THE DATE!!!&nbsp\;</strong></span></div>\nThe city of Willow Park is hosting a community event on September 18th\, Willow Bark\, benefiting Parker Paws\, a fun filled day for hoomans and their K9s with lots of activities planned\, including-&nbsp\; food trucks\, live music\, kids games\, dog costume contest\, and wiener dog races.&nbsp\;\n\n<div style="text-align: center\;"><span style="background-color:rgb(255\, 255\, 255)\; color:rgb(5\, 5\, 5)\; font-family:segoe ui historic\,segoe ui\,helvetica\,arial\,sans-serif\; font-size:15px">We are very excited to be able to get back out in the community!!</span></div>\n
LOCATION:516 Ranch House Rd\, Willow Park Paul Balint Memorial Park (next to City Hall)
UID:e.2477.15567
SEQUENCE:3
DTSTAMP:20260426T011752Z
URL:http://business.parkercountychamber.com/events/details/willow-bark-15567
END:VEVENT

END:VCALENDAR
