BEGIN:VCALENDAR
VERSION:2.0
PRODID:-//ChamberMaster//Event Calendar 2.0//EN
METHOD:PUBLISH
X-PUBLISHED-TTL:P3D
REFRESH-INTERVAL:P3D
CALSCALE:GREGORIAN
BEGIN:VEVENT
DTSTART:20211208T200000Z
DTEND:20211208T210000Z
X-MICROSOFT-CDO-ALLDAYEVENT:FALSE
SUMMARY:Webinar - Sell Online With E-Commerce Tools
DESCRIPTION:REGISTRATION LINK: https://attendee.gotowebinar.com/register/6530358416831764747\n\nDescription: Learn how to sell your products online. We'll walk through listing your products for free with Google My Business and Merchant Center. And we'll show you one way to sell on your website\, using an E-Commerce\n\nstore built with Shopify. Plus\, learn about more helpful tools to stand out online\, such as Local Opportunity Finder and Grow My Store.\n\nIn this workshop\, we'll:\n\n	Discuss the Products tab in Google My Business\n	Introduce Google Merchant Center and the basics of creating a free  account and a product feed
X-ALT-DESC;FMTTYPE=text/html:<span style="font-family:arial\,sans-serif\;"><span style="font-size:11pt\;">REGISTRATION LINK: </span></span><span style="font-family:calibri\,sans-serif\;"><span style="font-size:11.0pt\;"><a href="https://attendee.gotowebinar.com/register/6530358416831764747"><span style="color:#3C78D8\;"><span style="font-family:arial\,sans-serif\;"><span style="font-size:10.0pt\;">https://attendee.gotowebinar.com/register/6530358416831764747</span></span></span></a></span></span><br />\n<strong><span style="color:black\;"><span style="font-family:arial\,sans-serif\;"><span style="font-size:9.0pt\;">Description: </span></span></span></strong><span style="color:black\;"><span style="font-family:arial\,sans-serif\;"><span style="font-size:9.0pt\;">Learn how to sell your products online. We&#39\;ll walk through listing your products for free with Google My Business and Merchant Center. And we&#39\;ll show you one way to sell on your website\, using an E-Commerce<br />\nstore built with Shopify. Plus\, learn about more helpful tools to stand out online\, such as Local Opportunity Finder and Grow My Store.</span></span></span><br />\n<strong><span style="color:black\;"><span style="font-family:arial\,sans-serif\;"><span style="font-size:9.0pt\;">In this workshop\, we&rsquo\;ll:</span></span></span></strong>\n<ul>\n	<li style="color:black\;margin-top:8.0pt\;vertical-align:baseline\;font-variant-numeric:normal\;font-variant-east-asian:normal\;"><span style="font-family:arial\,sans-serif\;"><span style="font-size:9.0pt\;">Discuss the Products tab in Google My Business</span></span></li>\n	<li style="color:black\;margin-top:8.0pt\;vertical-align:baseline\;font-variant-numeric:normal\;font-variant-east-asian:normal\;"><span style="font-family:arial\,sans-serif\;"><span style="font-size:9.0pt\;">Introduce Google Merchant Center and the basics of creating a free&nbsp\; account and a product feed</span></span></li>\n</ul>\n
LOCATION:
UID:e.2477.15761
SEQUENCE:3
DTSTAMP:20260425T211446Z
URL:http://business.parkercountychamber.com/events/details/webinar-sell-online-with-e-commerce-tools-15761
END:VEVENT

END:VCALENDAR
