BEGIN:VCALENDAR
VERSION:2.0
PRODID:-//ChamberMaster//Event Calendar 2.0//EN
METHOD:PUBLISH
X-PUBLISHED-TTL:P3D
REFRESH-INTERVAL:P3D
CALSCALE:GREGORIAN
BEGIN:VEVENT
DTSTART:20231111T180000Z
DTEND:20231111T210000Z
X-MICROSOFT-CDO-ALLDAYEVENT:FALSE
SUMMARY:Weatherford Wellness- Family Heath Fair
DESCRIPTION:Join us for a veteran spotlighted\, family fun\, health fair! \n\n\n\nWe will have fun activities for the kids\, games\, food trucks\, health care resources and information\, raffle prizes and a silent auction! All proceeds will be going to a Veteran Non-Profit Organization.\n\n\n\nThe Carter Blood Drive Bus will be there\, and anyone who donates will get a free raffle ticket!! \n\n\n\nThere will be a live helicopter landing and singing of the National Anthem in honor of Veterans Day! \n\nCome out and join the fun!
X-ALT-DESC;FMTTYPE=text/html:Join us for a veteran spotlighted\, family fun\, health fair!&nbsp\;<br />\n<br />\nWe will have fun activities for the kids\, games\, food trucks\, health care resources and information\, raffle prizes and a silent auction! All proceeds will be going to a Veteran Non-Profit Organization.<br />\n<br />\nThe Carter Blood Drive Bus will be there\, and anyone who donates will get a free raffle ticket!!&nbsp\;<br />\n<br />\nThere will be a live helicopter landing and singing of the National Anthem in honor of Veterans Day!&nbsp\;<br />\nCome out and join the fun!
LOCATION:The New Technology Building at Weatherford College
UID:e.2477.19083
SEQUENCE:3
DTSTAMP:20260424T125839Z
URL:http://business.parkercountychamber.com/events/details/weatherford-wellness-family-event-11-11-2023-19083
END:VEVENT

END:VCALENDAR
