BEGIN:VCALENDAR
VERSION:2.0
PRODID:-//ChamberMaster//Event Calendar 2.0//EN
METHOD:PUBLISH
X-PUBLISHED-TTL:P3D
REFRESH-INTERVAL:P3D
CALSCALE:GREGORIAN
BEGIN:VEVENT
DTSTART:20211022T163000Z
DTEND:20211022T180000Z
X-MICROSOFT-CDO-ALLDAYEVENT:FALSE
SUMMARY:Weatherford College Workforce Education Business Forum
DESCRIPTION:Weatherford College Workforce Education is having its First Annual Business Forum! The Business Forum will take place on Friday\, October 22nd from 11:30AM-1:00PM in the Alkek building on campus. This business forum encourages businesses in Parker County and surrounding areas to come out and be a part of the conversation. Workforce Education wants to know the business needs of small and large businesses\, so all are welcomed! Lunch will be provided. \n\n  Businesses can RSVP at www.wc.edu/corporatecollege
X-ALT-DESC;FMTTYPE=text/html:<p>Weatherford College Workforce Education is having its First Annual Business Forum! The Business Forum will take place on Friday\, October 22nd&nbsp\;from 11:30AM-1:00PM in the Alkek building on campus. This business forum encourages businesses in Parker County and surrounding areas to come out and be a part of the conversation. Workforce Education wants to know the business needs of small and large businesses\, so all are welcomed! Lunch will be provided.&nbsp\;</p>\n\n<p>&nbsp\; Businesses can RSVP at&nbsp\;<a href="http://www.wc.edu/corporatecollege" style="background: transparent\; box-sizing: border-box\; text-decoration-line: none\; color: rgb(0\, 0\, 255)\; transition: none 0s ease 0s\; line-height: 1.5em\; outline: 0px\; margin: 0px\; padding: 0px\; border-width: 1px\; font-style: inherit\; font-variant-numeric: normal\; font-variant-east-asian: normal\; font-weight: inherit\; font-stretch: inherit\; vertical-align: baseline\; letter-spacing: 0.025em\;">www.wc.edu/corporatecollege</a>&nbsp\;&nbsp\;</p>\n
LOCATION:Alkek Fine Arts building on Weatherford Campus.
UID:e.2477.15592
SEQUENCE:3
DTSTAMP:20260426T000622Z
URL:http://business.parkercountychamber.com/events/details/weatherford-college-workforce-education-business-forum-15592
END:VEVENT

END:VCALENDAR
