BEGIN:VCALENDAR
VERSION:2.0
PRODID:-//ChamberMaster//Event Calendar 2.0//EN
METHOD:PUBLISH
X-PUBLISHED-TTL:P3D
REFRESH-INTERVAL:P3D
CALSCALE:GREGORIAN
BEGIN:VEVENT
DTSTART:20220422T223000Z
DTEND:20220423T003000Z
X-MICROSOFT-CDO-ALLDAYEVENT:FALSE
SUMMARY:Weatherford College student art show
DESCRIPTION:Join us in Texas Hall of the Alkek Fine Arts Center to view student artwork and meet the artists.
X-ALT-DESC;FMTTYPE=text/html:<p><span style="font-size:15px">Join us in Texas Hall of the Alkek Fine Arts Center to view student artwork and meet the artists.</span></p>\n
LOCATION:Weatherford College
UID:e.2477.17745
SEQUENCE:3
DTSTAMP:20260425T154538Z
URL:http://business.parkercountychamber.com/events/details/weatherford-college-student-art-show-17745
END:VEVENT

END:VCALENDAR
