BEGIN:VCALENDAR
VERSION:2.0
PRODID:-//ChamberMaster//Event Calendar 2.0//EN
METHOD:PUBLISH
X-PUBLISHED-TTL:P3D
REFRESH-INTERVAL:P3D
CALSCALE:GREGORIAN
BEGIN:VEVENT
DTSTART:20211109T150000Z
DTEND:20211109T190000Z
X-MICROSOFT-CDO-ALLDAYEVENT:FALSE
SUMMARY:Weatherford Christian School Open House For Prospective Families
DESCRIPTION:We invite your family to join us anytime from 9 am - 1 pm on November 9th to find out more about what WCS has to offer your child! Take a campus tour and get all the information you need to enroll for the 2022 school year.
X-ALT-DESC;FMTTYPE=text/html:<span style="background-color:rgb(36\, 37\, 38)\; color:rgb(228\, 230\, 235)\; font-family:system-ui\,-apple-system\,blinkmacsystemfont\,.sfnstext-regular\,sans-serif\; font-size:15px">We invite your family to join us anytime from 9 am - 1 pm on November 9th to find out more about what WCS has to offer your child! Take a campus tour and get all the information you need to enroll for the 2022 school year.</span>
LOCATION:Weatherford Christian School 2300 Ranger Hwy.\, Weatherford\, TX 76088
UID:e.2477.15619
SEQUENCE:3
DTSTAMP:20260425T225611Z
URL:http://business.parkercountychamber.com/events/details/weatherford-christian-school-open-house-for-prospective-families-15619
END:VEVENT

END:VCALENDAR
