BEGIN:VCALENDAR
VERSION:2.0
PRODID:-//ChamberMaster//Event Calendar 2.0//EN
METHOD:PUBLISH
X-PUBLISHED-TTL:P3D
REFRESH-INTERVAL:P3D
CALSCALE:GREGORIAN
BEGIN:VEVENT
DTSTART:20211002T233000Z
DTEND:20211003T020000Z
X-MICROSOFT-CDO-ALLDAYEVENT:FALSE
SUMMARY:Weatherford Christian School Faith Promise Dinner
DESCRIPTION:Save The Date for Weatherford Christian School's Faith Promise Dinner! For more details\, ticket information\, and sponsorships please e-mail marketing@wcslions.org or call 817-341-0000.
X-ALT-DESC;FMTTYPE=text/html:Save The Date for Weatherford Christian School&#39\;s Faith Promise Dinner! For more details\, ticket information\, and sponsorships please e-mail marketing@wcslions.org or call 817-341-0000.
LOCATION:Venue Nine-Twenty 117 Cartwright Park Road Weatherford\, Texas 76088
UID:e.2477.15527
SEQUENCE:3
DTSTAMP:20260426T000800Z
URL:http://business.parkercountychamber.com/events/details/weatherford-christian-school-faith-promise-dinner-15527
END:VEVENT

END:VCALENDAR
