BEGIN:VCALENDAR
VERSION:2.0
PRODID:-//ChamberMaster//Event Calendar 2.0//EN
METHOD:PUBLISH
X-PUBLISHED-TTL:P3D
REFRESH-INTERVAL:P3D
CALSCALE:GREGORIAN
BEGIN:VEVENT
DTSTART:20220326T230000Z
DTEND:20220327T023000Z
X-MICROSOFT-CDO-ALLDAYEVENT:FALSE
SUMMARY:WCS 2022 Lions' Gala
DESCRIPTION:The annual Lions' Gala benefiting Weatherford Christian School will take place this year on Saturday\, March 26th beginning at 6:00pm.  This year's event will be held on their very own campus inside the beautiful Greg Welch Gymnasium. Guests will enjoy incredible items in the silent\, live auctions\, and raffles along with a catered dinner.  \n\nSponsorships and tables are limited and can be purchased by contacting Director of Marketing Kasey Petzold at 817-341-0000 ext. 317 or kasey.petzold@wcslions.org or online at bidpal.net/2022lionsgala.
X-ALT-DESC;FMTTYPE=text/html:<p>The annual Lions&#39\;&nbsp\;Gala benefiting Weatherford Christian School will take place this year on Saturday\, March 26th beginning at 6:00pm. &nbsp\;This year&#39\;s event will be held on their very own campus inside the beautiful Greg Welch Gymnasium. Guests will enjoy incredible items in the silent\, live auctions\, and raffles along with a catered dinner.&nbsp\;&nbsp\;</p>\n\n<p>Sponsorships and tables are limited and can be purchased by contacting Director of Marketing Kasey Petzold at 817-341-0000 ext. 317 or kasey.petzold@wcslions.org or online at bidpal.net/2022lionsgala. &nbsp\;&nbsp\;&nbsp\;</p>\n
LOCATION:WCS Greg Welch Gymnasium 2300 Ranger Hwy Weatherford\, TX 76088
UID:e.2477.15620
SEQUENCE:3
DTSTAMP:20260425T170524Z
URL:http://business.parkercountychamber.com/events/details/wcs-2022-lions-gala-15620
END:VEVENT

END:VCALENDAR
