BEGIN:VCALENDAR
VERSION:2.0
PRODID:-//ChamberMaster//Event Calendar 2.0//EN
METHOD:PUBLISH
X-PUBLISHED-TTL:P3D
REFRESH-INTERVAL:P3D
CALSCALE:GREGORIAN
BEGIN:VEVENT
DTSTART:20250301T160000Z
DTEND:20250301T183000Z
X-MICROSOFT-CDO-ALLDAYEVENT:FALSE
SUMMARY:WC Dance Recruitment Clinic
DESCRIPTION:Clinic to recruit dancers for the new dance team Weatherford College High Steppers.  Open to high school and college students.\n\n\n\nPlease click the link to register:\n\nWC Dance Team Recruitment Clinic (Spring) Tickets | Weatherford College\n\n\n\n$45 Registration Fee.
X-ALT-DESC;FMTTYPE=text/html:Clinic to recruit dancers for the new dance team Weatherford College High Steppers.&nbsp\; Open to high school and college students.<br />\n<br />\nPlease click the link to register:<br />\n<a href="https://www.simpletix.com/e/wc-dance-team-recruitment-clinic-spring-tickets-186764">WC Dance Team Recruitment Clinic (Spring) Tickets | Weatherford College</a><br />\n<br />\n$45 Registration Fee.
LOCATION:Weatherford College Betty Jo Crumm Graber Gymnasium 225 College Park Dr. Weatherford\, TX 76086
UID:e.2477.20131
SEQUENCE:3
DTSTAMP:20260423T114133Z
URL:http://business.parkercountychamber.com/events/details/wc-dance-recruitment-clinic-20131
END:VEVENT

END:VCALENDAR
