BEGIN:VCALENDAR
VERSION:2.0
PRODID:-//ChamberMaster//Event Calendar 2.0//EN
METHOD:PUBLISH
X-PUBLISHED-TTL:P3D
REFRESH-INTERVAL:P3D
CALSCALE:GREGORIAN
BEGIN:VEVENT
DTSTART:20241204T233000Z
DTEND:20241205T010000Z
X-MICROSOFT-CDO-ALLDAYEVENT:FALSE
SUMMARY:WC Bi-Annual College Student Art Exhibition Reception
DESCRIPTION:Reception for the Bi-Annual WC Student Exhibition. The Exhibition will be up December 4 to December 11.
X-ALT-DESC;FMTTYPE=text/html:<span style="color:rgb(49\, 49\, 49)\; font-family:-apple-system\,system-ui\,segoe ui\,roboto\,helvetica\,arial\,sans-serif\,apple color emoji\,segoe ui emoji\,segoe ui symbol\; font-size:14px">Reception</span><span style="color:rgb(49\, 49\, 49)\; font-family:-apple-system\,system-ui\,segoe ui\,roboto\,helvetica\,arial\,sans-serif\,apple color emoji\,segoe ui emoji\,segoe ui symbol\; font-size:14px">&nbsp\;for the Bi-Annual WC Student Exhibition. The Exhibition will be up December 4 to December 11.</span>
LOCATION:Weatherford College Alkek Fine Arts Center: Texas Hall 225 College Park Dr.
UID:e.2477.20036
SEQUENCE:3
DTSTAMP:20260423T202851Z
URL:http://business.parkercountychamber.com/events/details/wc-bi-annual-college-student-art-exhibition-reception-20036
END:VEVENT

END:VCALENDAR
