BEGIN:VCALENDAR
VERSION:2.0
PRODID:-//ChamberMaster//Event Calendar 2.0//EN
METHOD:PUBLISH
X-PUBLISHED-TTL:P3D
REFRESH-INTERVAL:P3D
CALSCALE:GREGORIAN
BEGIN:VEVENT
DTSTART:20241015T230000Z
DTEND:20241016T000000Z
X-MICROSOFT-CDO-ALLDAYEVENT:FALSE
SUMMARY:UTA Fort Worth: FUTURE STUDENT - In person Information Session
DESCRIPTION:We invite you to learn more about our downtown Fort Worth Center and the various degree programs we offer for both undergraduate and graduate students. At this event\, you can hear from program advisors and admissions representatives who will provide you with all the necessary information you need to make your educational journey a success. With our flexible schedule and convenient location\, our downtown campus is the number one choice for busy professionals who want to achieve a perfect work/school/life balance. We look forward to seeing you there!
X-ALT-DESC;FMTTYPE=text/html:<div>\n<div>\n<div>\n<div>\n<p>We invite you to learn more about our downtown Fort Worth Center and the various degree programs we offer for both undergraduate and graduate students. At this event\, you can hear from program advisors and admissions representatives who will provide you with all the necessary information you need to make your educational journey a success. With our flexible schedule and convenient location\, our downtown campus is the number one choice for busy professionals who want to achieve a perfect work/school/life balance. We look forward to seeing you there!</p>\n</div>\n</div>\n</div>\n</div>\n
LOCATION:In person UTA Fort Worth 1401 Jones St Fort Worth\, TX 76102
UID:e.2477.19732
SEQUENCE:3
DTSTAMP:20260423T211712Z
URL:http://business.parkercountychamber.com/events/details/uta-fort-worth-future-student-in-person-information-session-10-15-2024-19732
END:VEVENT

END:VCALENDAR
