BEGIN:VCALENDAR
VERSION:2.0
PRODID:-//ChamberMaster//Event Calendar 2.0//EN
METHOD:PUBLISH
X-PUBLISHED-TTL:P3D
REFRESH-INTERVAL:P3D
CALSCALE:GREGORIAN
BEGIN:VEVENT
DTSTART:20250124T003000Z
DTEND:20250124T013000Z
X-MICROSOFT-CDO-ALLDAYEVENT:FALSE
SUMMARY:UTA Executive MBA Coaching Series - Win-Win Salary Negotiations: Strategies for Success
DESCRIPTION:Details\n\nUTA Executive MBA - 2025 Coaching Series\n\nThe new year is the perfect time to invest in your growth. We're excited to announce our free virtual EMBA Executive Coaching Series\, designed to help you sharpen your skills and achieve your goals.\n\n\n	When: Thursday\, January 23\, 2025\n\n	Time: 6:30   7:30 PM (CST)\n	Who's Invited? This series is open to all EMBA alumni\, friends\, and colleagues. Feel free to share the invitation with anyone who could benefit from these powerful sessions.\n	What to Expect: Each session begins with a brief overview of the EMBA program\, followed by an engaging presentation from a top executive coach.\n\n\nJanuary 23rd\, 2025: \n\nWin-Win Salary Negotiations: Strategies for Success\n\nOverview:\n\nNegotiating salary doesn't have to feel like a battle it's an opportunity to create value for employees and employers. This interactive workshop is designed for hiring managers and employees to explore effective negotiation strategies\, foster understanding of mutual priorities\, and build confidence in navigating compensation discussions.\n\nParticipants will learn:\n\n\n	Employees: How to research and articulate your worth while confidently advocating for yourself.\n	Hiring Managers: How to approach salary discussions transparently while attracting and retaining top talent.\n\n\nHow to Join:\n\nClick register to sign-up for this virtual session.\n\nDon't miss this opportunity to kick off 2025 with strategies to elevate your personal and professional success. See you online!
X-ALT-DESC;FMTTYPE=text/html:<h2>Details</h2>\n\n<p><span style="color:rgb(36\, 36\, 36)\; font-size:var(--fontSizeBase400)"><span style="color:rgb(30\, 83\, 163)\; font-size:x-large"><strong>UTA Executive MBA - 2025 Coaching Series</strong></span></span></p>\n\n<p><span style="color:rgb(36\, 36\, 36)\; font-size:var(--fontSizeBase400)">The new year is the perfect time to invest in your growth. We&rsquo\;re excited to announce our free virtual EMBA Executive Coaching Series\, designed to help you sharpen your skills and achieve your goals.</span></p>\n\n<ul>\n	<li><span style="color:rgb(36\, 36\, 36)\; font-size:var(--fontSizeBase400)"><strong>When</strong>: Thursday\, January 23\, 2025<br />\n	<strong>Time</strong>: 6:30 &ndash\; 7:30 PM (CST)</span></li>\n	<li><span style="color:rgb(36\, 36\, 36)\; font-size:var(--fontSizeBase400)"><strong>Who&rsquo\;s Invited?&nbsp\;</strong>This series is open to all EMBA alumni\, friends\, and colleagues. Feel free to share the invitation with anyone who could benefit from these powerful sessions.</span></li>\n	<li><span style="color:rgb(36\, 36\, 36)\; font-size:var(--fontSizeBase400)"><strong>What to Expect</strong>: Each session begins with a brief overview of the EMBA program\, followed by an engaging presentation from a top executive coach.</span></li>\n</ul>\n\n<p><span style="color:rgb(36\, 36\, 36)\; font-size:var(--fontSizeBase400)"><span style="color:rgb(30\, 83\, 163)\; font-size:inherit"><strong><u>January 23rd\, 2025:</u>&nbsp\;</strong></span></span></p>\n\n<p style="margin-left:0px"><span style="color:rgb(36\, 36\, 36)\; font-size:var(--fontSizeBase400)"><span style="color:rgb(0\, 0\, 0)\; font-size:x-large"><em><strong>Win-Win Salary Negotiations: Strategies for Success</strong></em></span></span></p>\n\n<p style="margin-left:0px"><span style="color:rgb(36\, 36\, 36)\; font-size:var(--fontSizeBase400)"><span style="color:rgb(0\, 0\, 0)"><strong>Overview:</strong></span><br />\n<span style="color:rgb(0\, 0\, 0)">Negotiating salary doesn&rsquo\;t have to feel like a battle&mdash\;it&rsquo\;s an opportunity to create value for employees and employers. This interactive workshop is designed for hiring managers and employees to explore effective negotiation strategies\, foster understanding of mutual priorities\, and build confidence in navigating compensation discussions.</span></span></p>\n\n<p style="margin-left:0px"><span style="color:rgb(36\, 36\, 36)\; font-size:var(--fontSizeBase400)"><span style="color:rgb(0\, 0\, 0)">Participants will learn:</span></span></p>\n\n<ul>\n	<li><span style="color:rgb(36\, 36\, 36)\; font-size:var(--fontSizeBase400)">Employees: How to research and articulate your worth while confidently advocating for yourself.</span></li>\n	<li><span style="color:rgb(36\, 36\, 36)\; font-size:var(--fontSizeBase400)">Hiring Managers: How to approach salary discussions transparently while attracting and retaining top talent.</span></li>\n</ul>\n\n<p><span style="color:rgb(36\, 36\, 36)\; font-size:var(--fontSizeBase400)"><strong>How to Join:</strong><br />\nClick register to sign-up for this virtual session.</span></p>\n\n<p><span style="color:rgb(36\, 36\, 36)\; font-size:var(--fontSizeBase400)">Don&rsquo\;t miss this opportunity to kick off 2025 with strategies to elevate your personal and professional success. See you online!</span></p>\n
LOCATION:Virtually via Teams
UID:e.2477.20080
SEQUENCE:3
DTSTAMP:20260423T144629Z
URL:http://business.parkercountychamber.com/events/details/uta-executive-mba-coaching-series-win-win-salary-negotiations-strategies-for-success-20080
END:VEVENT

END:VCALENDAR
