BEGIN:VCALENDAR
VERSION:2.0
PRODID:-//ChamberMaster//Event Calendar 2.0//EN
METHOD:PUBLISH
X-PUBLISHED-TTL:P3D
REFRESH-INTERVAL:P3D
CALSCALE:GREGORIAN
BEGIN:VEVENT
DTSTART:20250117T003000Z
DTEND:20250117T013000Z
X-MICROSOFT-CDO-ALLDAYEVENT:FALSE
SUMMARY:UTA Executive MBA Coaching Series - Retaining Satisfied Customers and Managing Expectations with Lynn Teel
DESCRIPTION:Details\n\nUTA Executive MBA - 2025 Coaching Series\n\nThe new year is the perfect time to invest in your growth. We're excited to announce our free virtual EMBA Executive Coaching Series\, designed to help you sharpen your skills and achieve your goals.\n\n\n	When: Thursday\, January 16\, 2025\n\n	Time: 6:30   7:30 PM (CST)\n	Who's Invited? This series is open to all EMBA alumni\, friends\, and colleagues. Feel free to share the invitation with anyone who could benefit from these powerful sessions.\n	What to Expect: Each session begins with a brief overview of the EMBA program\, followed by an engaging presentation from a top executive coach.\n\n\nJanuary 16th\, 2025: \n\nRetaining Satisfied Customers and Managing Expectations\n\nHow to Join:\n\nClick register to sign-up for this virtual session.\n\nDon't miss this opportunity to kick off 2025 with strategies to elevate your personal and professional success. See you online!\n\n2025 EMBA Coaching Series - Session Lineup:\n\n\n	January 16th: Retaining Satisfied Customers and Managing Expectations with Lynn Teel\n	January 23rd: Win-Win Salary Negotiations: Strategies for Success with Krystal Yates
X-ALT-DESC;FMTTYPE=text/html:<h2>Details</h2>\n\n<p><span style="color:rgb(36\, 36\, 36)\; font-size:var(--fontSizeBase400)"><span style="color:rgb(30\, 83\, 163)\; font-size:x-large"><strong>UTA Executive MBA - 2025 Coaching Series</strong></span></span></p>\n\n<p><span style="color:rgb(36\, 36\, 36)\; font-size:var(--fontSizeBase400)">The new year is the perfect time to invest in your growth. We&rsquo\;re excited to announce our free virtual EMBA Executive Coaching Series\, designed to help you sharpen your skills and achieve your goals.</span></p>\n\n<ul>\n	<li><span style="color:rgb(36\, 36\, 36)\; font-size:var(--fontSizeBase400)"><strong>When</strong>: Thursday\, January 16\, 2025<br />\n	<strong>Time</strong>: 6:30 &ndash\; 7:30 PM (CST)</span></li>\n	<li><span style="color:rgb(36\, 36\, 36)\; font-size:var(--fontSizeBase400)"><strong>Who&rsquo\;s Invited?&nbsp\;</strong>This series is open to all EMBA alumni\, friends\, and colleagues. Feel free to share the invitation with anyone who could benefit from these powerful sessions.</span></li>\n	<li><span style="color:rgb(36\, 36\, 36)\; font-size:var(--fontSizeBase400)"><strong>What to Expect</strong>: Each session begins with a brief overview of the EMBA program\, followed by an engaging presentation from a top executive coach.</span></li>\n</ul>\n\n<p><span style="color:rgb(36\, 36\, 36)\; font-size:var(--fontSizeBase400)"><span style="color:rgb(30\, 83\, 163)\; font-size:inherit"><strong><u>January 16th\, 2025:</u>&nbsp\;</strong></span></span></p>\n\n<p><span style="color:rgb(36\, 36\, 36)\; font-size:var(--fontSizeBase400)"><span style="font-size:x-large"><strong>Retaining Satisfied Customers and Managing Expectations</strong></span></span></p>\n\n<p><span style="color:rgb(36\, 36\, 36)\; font-size:var(--fontSizeBase400)"><strong>How to Join:</strong><br />\nClick register to sign-up for this virtual session.</span></p>\n\n<p><span style="color:rgb(36\, 36\, 36)\; font-size:var(--fontSizeBase400)">Don&rsquo\;t miss this opportunity to kick off 2025 with strategies to elevate your personal and professional success. See you online!</span></p>\n\n<p><span style="color:rgb(36\, 36\, 36)\; font-size:var(--fontSizeBase400)"><span style="color:rgb(30\, 83\, 163)\; font-size:x-large"><strong><u>2025 EMBA Coaching Series - Session Lineup:</u></strong></span></span></p>\n\n<ul>\n	<li><span style="color:rgb(36\, 36\, 36)\; font-size:var(--fontSizeBase400)"><strong>January 16th</strong>: Retaining Satisfied Customers and Managing Expectations with&nbsp\;<strong>Lynn Teel</strong></span></li>\n	<li><span style="color:rgb(36\, 36\, 36)\; font-size:var(--fontSizeBase400)"><strong>January 23rd</strong>: Win-Win Salary Negotiations: Strategies for Success with&nbsp\;<strong>Krystal Yates</strong></span></li>\n</ul>\n
LOCATION:Virtually via Teams
UID:e.2477.20079
SEQUENCE:3
DTSTAMP:20260423T133243Z
URL:http://business.parkercountychamber.com/events/details/uta-executive-mba-coaching-series-retaining-satisfied-customers-and-managing-expectations-with-lynn-teel-20079
END:VEVENT

END:VCALENDAR
