BEGIN:VCALENDAR
VERSION:2.0
PRODID:-//ChamberMaster//Event Calendar 2.0//EN
METHOD:PUBLISH
X-PUBLISHED-TTL:P3D
REFRESH-INTERVAL:P3D
CALSCALE:GREGORIAN
BEGIN:VEVENT
DTSTART:20260122T233000Z
DTEND:20260123T003000Z
X-MICROSOFT-CDO-ALLDAYEVENT:FALSE
SUMMARY:UTA Executive MBA Coaching Series - Networking that Makes a Difference: The Etiquette Advantage with Lynn Teel
DESCRIPTION:Overview:\n\nDiscover how to keep your customers loyal and satisfied while effectively managing their expectations. In this one-hour webinar\, you'll gain actionable insights into building trust\, enhancing communication\, and delivering consistent value. Learn strategies to anticipate customer needs\, resolve issues proactively\, and foster long-term relationships that drive retention and satisfaction. Whether you're a business owner\, sales professional\, or customer service leader\, this session equips you with practical tools to create a customer-centric approach and exceed expectations in today's competitive marketplace.
X-ALT-DESC;FMTTYPE=text/html:<p><strong>Overview:</strong></p>\n\n<p>Discover how to keep your customers loyal and satisfied while effectively managing their expectations. In this one-hour webinar\, you&rsquo\;ll gain actionable insights into building trust\, enhancing communication\, and delivering consistent value. Learn strategies to anticipate customer needs\, resolve issues proactively\, and foster long-term relationships that drive retention and satisfaction. Whether you&rsquo\;re a business owner\, sales professional\, or customer service leader\, this session equips you with practical tools to create a customer-centric approach and exceed expectations in today&rsquo\;s competitive marketplace.</p>\n
LOCATION:Virtual via Teams
UID:e.2477.21710
SEQUENCE:3
DTSTAMP:20260421T063034Z
URL:http://business.parkercountychamber.com/events/details/uta-executive-mba-coaching-series-networking-that-makes-a-difference-the-etiquette-advantage-with-lynn-teel-21710
END:VEVENT

END:VCALENDAR
