BEGIN:VCALENDAR
VERSION:2.0
PRODID:-//ChamberMaster//Event Calendar 2.0//EN
METHOD:PUBLISH
X-PUBLISHED-TTL:P3D
REFRESH-INTERVAL:P3D
CALSCALE:GREGORIAN
BEGIN:VEVENT
DTSTART:20260108T233000Z
DTEND:20260109T003000Z
X-MICROSOFT-CDO-ALLDAYEVENT:FALSE
SUMMARY:UTA Executive MBA Coaching Series - Master the Unlimited Power of LinkedIn Branding and Social Selling with Terry Sullivan
DESCRIPTION:Overview:\n\nIn his training presentation\, Terry will detail how LinkedIn is the proven #1 ranked online business-networking tool that gives business professionals and companies the ability to find\, connect and develop relationships with key contacts and prospective employers. With more than 760 million users worldwide\, LinkedIn provides unlimited networking and business-building opportunities.
X-ALT-DESC;FMTTYPE=text/html:<p><strong>Overview:</strong></p>\n\n<p>In his training presentation\, Terry will detail how LinkedIn is the proven #1 ranked online business-networking tool that gives business professionals and companies the ability to find\, connect and develop relationships with key contacts and prospective employers. With more than 760 million users worldwide\, LinkedIn provides unlimited networking and business-building opportunities.</p>\n
LOCATION:Virtual via Teams
UID:e.2477.21708
SEQUENCE:3
DTSTAMP:20260421T063614Z
URL:http://business.parkercountychamber.com/events/details/uta-executive-mba-coaching-series-master-the-unlimited-power-of-linkedin-branding-and-social-selling-with-terry-sullivan-21708
END:VEVENT

END:VCALENDAR
