BEGIN:VCALENDAR
VERSION:2.0
PRODID:-//ChamberMaster//Event Calendar 2.0//EN
METHOD:PUBLISH
X-PUBLISHED-TTL:P3D
REFRESH-INTERVAL:P3D
CALSCALE:GREGORIAN
BEGIN:VEVENT
DTSTART:20250110T003000Z
DTEND:20250110T013000Z
X-MICROSOFT-CDO-ALLDAYEVENT:FALSE
SUMMARY:UTA Executive MBA Coaching Series - LinkedIn Branding and Social Selling with Terry Sullivan
DESCRIPTION:Details\n\nUTA Executive MBA - 2025 Coaching Series\n\nThe new year is the perfect time to invest in your growth. We're excited to announce our free virtual EMBA Executive Coaching Series\, designed to help you sharpen your skills and achieve your goals.\n\n\n	When: Thursday\, January 9th 2025\n\n	Time: 6:30   7:30 PM (CST)\n	Who's Invited? This series is open to all EMBA alumni\, friends\, and colleagues. Feel free to share the invitation with anyone who could benefit from these powerful sessions.\n	What to Expect: Each session begins with a brief overview of the EMBA program\, followed by an engaging presentation from a top executive coach.\n\n\nJanuary 9th\, 2025: \n\nLinkedIn Branding and Social-Selling with Terry Sullivan\n\nOVERVIEW\n\nDoes your present networking strategy include the use of LinkedIn as a proven networking tool? Terry Sullivan\, Founder of BuzzPro\, a nationally recognized Branding and Social Selling training company\, and coach in the UTA Executive MBA\, will be presenting. \n\nIn his training presentation\, Terry will detail how LinkedIn is the proven #1 ranked online business-networking tool that gives business professionals and companies the ability to find\, connect and develop relationships with key contacts and prospective employers. With more than 760 million users worldwide\, LinkedIn provides unlimited networking and business-building opportunities.\n\nHow to Join:\n\nClick register to sign-up for this virtual session.\n\nDon't miss this opportunity to kick off 2025 with strategies to elevate your personal and professional success. See you online!\n\n2025 EMBA Coaching Series - Session Lineup:\n\n\n	January 9th: LinkedIn Branding and Social Selling with Terry Sullivan\n	January 16th: Retaining Satisfied Customers\, Managing Expectations\, and Networking Beyond LinkedIn with Lynn Teel\n	January 23rd: Negotiation with Krystal Yates
X-ALT-DESC;FMTTYPE=text/html:<h2>Details</h2>\n\n<p><span style="font-family:var(--fontfamilybase)\; font-size:var(--fontSizeBase400)"><span style="color:rgb(30\, 83\, 163)\; font-size:x-large"><strong>UTA Executive MBA - 2025 Coaching Series</strong></span></span></p>\n\n<p><span style="font-family:var(--fontfamilybase)\; font-size:var(--fontSizeBase400)">The new year is the perfect time to invest in your growth. We&rsquo\;re excited to announce our free virtual EMBA Executive Coaching Series\, designed to help you sharpen your skills and achieve your goals.</span></p>\n\n<ul>\n	<li><span style="font-family:var(--fontfamilybase)\; font-size:var(--fontSizeBase400)"><strong>When</strong>: Thursday\, January 9th 2025<br />\n	<strong>Time</strong>: 6:30 &ndash\; 7:30 PM (CST)</span></li>\n	<li><span style="font-family:var(--fontfamilybase)\; font-size:var(--fontSizeBase400)"><strong>Who&rsquo\;s Invited?&nbsp\;</strong>This series is open to all EMBA alumni\, friends\, and colleagues. Feel free to share the invitation with anyone who could benefit from these powerful sessions.</span></li>\n	<li><span style="font-family:var(--fontfamilybase)\; font-size:var(--fontSizeBase400)"><strong>What to Expect</strong>: Each session begins with a brief overview of the EMBA program\, followed by an engaging presentation from a top executive coach.</span></li>\n</ul>\n\n<p><span style="font-family:var(--fontfamilybase)\; font-size:var(--fontSizeBase400)"><span style="color:rgb(30\, 83\, 163)\; font-size:inherit"><strong><u>January 9th\, 2025:</u>&nbsp\;</strong></span></span></p>\n\n<p><span style="font-family:var(--fontfamilybase)\; font-size:var(--fontSizeBase400)"><span style="font-size:x-large"><strong>LinkedIn Branding and Social-Selling with Terry Sullivan</strong></span></span></p>\n\n<p><span style="font-family:var(--fontfamilybase)\; font-size:var(--fontSizeBase400)"><em><strong>OVERVIEW</strong></em></span></p>\n\n<p><span style="font-family:var(--fontfamilybase)\; font-size:var(--fontSizeBase400)"><span style="color:rgb(0\, 0\, 0)"><em>Does your present networking strategy include the use of LinkedIn as a proven networking tool? Terry Sullivan\, Founder of BuzzPro\, a nationally recognized Branding and Social Selling training company\, and coach in the UTA Executive MBA\, will be presenting.</em></span></span><span style="font-family:var(--fontfamilybase)\; font-size:var(--fontSizeBase400)">&nbsp\;</span></p>\n\n<p><span style="font-family:var(--fontfamilybase)\; font-size:var(--fontSizeBase400)"><span style="color:rgb(0\, 0\, 0)"><em>In his training presentation\, Terry will detail how LinkedIn is the proven #1 ranked online business-networking tool that gives business professionals and companies the ability to find\, connect and develop relationships with key contacts and prospective employers. With more than 760 million users worldwide\, LinkedIn provides unlimited networking and business-building opportunities.</em></span></span></p>\n\n<p><span style="font-family:var(--fontfamilybase)\; font-size:var(--fontSizeBase400)"><strong>How to Join:</strong><br />\nClick register to sign-up for this virtual session.</span></p>\n\n<p><span style="font-family:var(--fontfamilybase)\; font-size:var(--fontSizeBase400)">Don&rsquo\;t miss this opportunity to kick off 2025 with strategies to elevate your personal and professional success. See you online!</span></p>\n\n<p><span style="font-family:var(--fontfamilybase)\; font-size:var(--fontSizeBase400)"><span style="color:rgb(30\, 83\, 163)\; font-size:x-large"><strong><u>2025 EMBA Coaching Series - Session Lineup:</u></strong></span></span></p>\n\n<ul>\n	<li><span style="font-family:var(--fontfamilybase)\; font-size:var(--fontSizeBase400)"><strong>January 9th</strong>: LinkedIn Branding and Social Selling with&nbsp\;<strong>Terry Sullivan</strong></span></li>\n	<li><span style="font-family:var(--fontfamilybase)\; font-size:var(--fontSizeBase400)"><strong>January 16th</strong>: Retaining Satisfied Customers\, Managing Expectations\, and Networking Beyond LinkedIn with&nbsp\;<strong>Lynn Teel</strong></span></li>\n	<li><span style="font-family:var(--fontfamilybase)\; font-size:var(--fontSizeBase400)"><strong>January 23rd</strong>: Negotiation with&nbsp\;<strong>Krystal Yates</strong></span></li>\n</ul>\n
LOCATION:Virtually via Teams
UID:e.2477.20078
SEQUENCE:3
DTSTAMP:20260423T133449Z
URL:http://business.parkercountychamber.com/events/details/uta-executive-mba-coaching-series-linkedin-branding-and-social-selling-with-terry-sullivan-20078
END:VEVENT

END:VCALENDAR
