BEGIN:VCALENDAR
VERSION:2.0
PRODID:-//ChamberMaster//Event Calendar 2.0//EN
METHOD:PUBLISH
X-PUBLISHED-TTL:P3D
REFRESH-INTERVAL:P3D
CALSCALE:GREGORIAN
BEGIN:VEVENT
DTSTART:20260129T233000Z
DTEND:20260130T003000Z
X-MICROSOFT-CDO-ALLDAYEVENT:FALSE
SUMMARY:UTA Executive MBA Coaching Series - Leadership Reinvented: Emotional Intelligence and DISC Strategies for Executives by Cathy Trinh
DESCRIPTION:Overview:\n\nThis session explores how Emotional Intelligence and DISC behavior styles help executives lead with clarity\, influence\, and self-awareness. Participants will identify their natural leadership tendencies\, understand how vision and core values anchor decision-making\, and learn practical strategies to communicate more effectively\, reduce conflict\, and elevate team performance.
X-ALT-DESC;FMTTYPE=text/html:<p><strong>Overview:</strong></p>\n\n<p>This session explores how Emotional Intelligence and DISC behavior styles help executives lead with clarity\, influence\, and self-awareness. Participants will identify their natural leadership tendencies\, understand how vision and core values anchor decision-making\, and learn practical strategies to communicate more effectively\, reduce conflict\, and elevate team performance.</p>\n
LOCATION:Virtual via Teams
UID:e.2477.21711
SEQUENCE:3
DTSTAMP:20260421T063552Z
URL:http://business.parkercountychamber.com/events/details/uta-executive-mba-coaching-series-leadership-reinvented-emotional-intelligence-and-disc-strategies-for-executives-by-cathy-trinh-21711
END:VEVENT

END:VCALENDAR
