BEGIN:VCALENDAR
VERSION:2.0
PRODID:-//ChamberMaster//Event Calendar 2.0//EN
METHOD:PUBLISH
X-PUBLISHED-TTL:P3D
REFRESH-INTERVAL:P3D
CALSCALE:GREGORIAN
BEGIN:VEVENT
DTSTART:20260115T233000Z
DTEND:20260116T003000Z
X-MICROSOFT-CDO-ALLDAYEVENT:FALSE
SUMMARY:UTA Executive MBA Coaching Series - Compensation Negotiation Strategies for Every Career Stage with Krystal Yates
DESCRIPTION:Overview:\n\nNegotiating salary doesn't have to feel like a battle - it's an opportunity to create value for employees and employers. This interactive workshop is designed for hiring managers and employees to explore effective negotiation strategies\, foster understanding of mutual priorities\, and build confidence in navigating compensation discussions.
X-ALT-DESC;FMTTYPE=text/html:<p><strong>Overview:</strong></p>\n\n<p>Negotiating salary doesn&rsquo\;t have to feel like a battle - it&rsquo\;s an opportunity to create value for employees and employers. This interactive workshop is designed for hiring managers and employees to explore effective negotiation strategies\, foster understanding of mutual priorities\, and build confidence in navigating compensation discussions.</p>\n
LOCATION:Virtual via Teams
UID:e.2477.21709
SEQUENCE:3
DTSTAMP:20260421T063526Z
URL:http://business.parkercountychamber.com/events/details/uta-executive-mba-coaching-series-compensation-negotiation-strategies-for-every-career-stage-with-krystal-yates-21709
END:VEVENT

END:VCALENDAR
