BEGIN:VCALENDAR
VERSION:2.0
PRODID:-//ChamberMaster//Event Calendar 2.0//EN
METHOD:PUBLISH
X-PUBLISHED-TTL:P3D
REFRESH-INTERVAL:P3D
CALSCALE:GREGORIAN
BEGIN:VEVENT
DTSTART:20250221T173000Z
DTEND:20250221T190000Z
X-MICROSOFT-CDO-ALLDAYEVENT:FALSE
SUMMARY:United Way of Parker County Annual Fundraiser
DESCRIPTION:United Way of Parker County's annual fundraising luncheon.
X-ALT-DESC;FMTTYPE=text/html:United Way of Parker County&#39\;s annual fundraising luncheon.&nbsp\;
LOCATION:Tuscan Oaks Estate 109 Otto Rd.\, Weatherford
UID:e.2477.20119
SEQUENCE:3
DTSTAMP:20260423T120055Z
URL:http://business.parkercountychamber.com/events/details/united-way-of-parker-county-annual-fundraiser-20119
END:VEVENT

END:VCALENDAR
