BEGIN:VCALENDAR
VERSION:2.0
PRODID:-//ChamberMaster//Event Calendar 2.0//EN
METHOD:PUBLISH
X-PUBLISHED-TTL:P3D
REFRESH-INTERVAL:P3D
CALSCALE:GREGORIAN
BEGIN:VEVENT
DTSTART:20250128T010000Z
DTEND:20250128T030000Z
X-MICROSOFT-CDO-ALLDAYEVENT:FALSE
SUMMARY:Two Worlds\, One Sound: American & Russian Piano Duos
DESCRIPTION:Weatherford College presents Eleonora Karpukhova & Hyeyoung Song Piano Duo Recital.
X-ALT-DESC;FMTTYPE=text/html:Weatherford College presents Eleonora Karpukhova &amp\; Hyeyoung Song Piano Duo Recital.
LOCATION:Weatherford College Alkek Fine Arts Center 225 College Park Dr.
UID:e.2477.20082
SEQUENCE:3
DTSTAMP:20260423T144630Z
URL:http://business.parkercountychamber.com/events/details/two-worlds-one-sound-american-russian-piano-duos-20082
END:VEVENT

END:VCALENDAR
