BEGIN:VCALENDAR
VERSION:2.0
PRODID:-//ChamberMaster//Event Calendar 2.0//EN
METHOD:PUBLISH
X-PUBLISHED-TTL:P3D
REFRESH-INTERVAL:P3D
CALSCALE:GREGORIAN
BEGIN:VEVENT
DTSTART:20220621T163000Z
DTEND:20220621T180000Z
X-MICROSOFT-CDO-ALLDAYEVENT:FALSE
SUMMARY:Truly Title - Lunch 'N Learn
DESCRIPTION:Includes lunch at Shep's and 1 hr of NON-CE instruction\n\nClass instructed by Tanner Newton\, Total Roof Protection\n\nThe class will cover teaching about the insurance process\, the best construction practices and choosing the right contractor! Q&A open forum at the end.\n\nSponsored by: Caliber Home Loans and Truly Title
X-ALT-DESC;FMTTYPE=text/html:<div>Includes lunch at Shep&#39\;s and 1 hr of NON-CE instruction<br />\nClass instructed by Tanner Newton\, Total Roof Protection<br />\nThe class will cover teaching about the insurance process\, the best construction practices and choosing the right contractor! Q&amp\;A open forum at the end.</div>\n\n<div>Sponsored by: Caliber Home Loans and Truly Title</div>\n
LOCATION:Shep's
UID:e.2477.17817
SEQUENCE:3
DTSTAMP:20260425T131255Z
URL:http://business.parkercountychamber.com/events/details/truly-title-lunch-n-learn-17817
END:VEVENT

END:VCALENDAR
