BEGIN:VCALENDAR
VERSION:2.0
PRODID:-//ChamberMaster//Event Calendar 2.0//EN
METHOD:PUBLISH
X-PUBLISHED-TTL:P3D
REFRESH-INTERVAL:P3D
CALSCALE:GREGORIAN
BEGIN:VEVENT
DTSTART:20250124T150000Z
DTEND:20250124T170000Z
X-MICROSOFT-CDO-ALLDAYEVENT:FALSE
SUMMARY:Trinity Christian Academy Preview Day
DESCRIPTION:Trinity Christian Academy is a college-preparatory Christian school founded in 1993. TCA is an independently operating school with a separate board and administration that provides Christ-centered leadership for a staff of 90-100 men and women. We have the capacity to serve a student body of approximately 550 students in grades PK3-12.\n\nIf you are interested in joining our TCA family\, we would love to have you join us for Preview Day on January 24th.\n\nTCAs Preview Day allows you to tour both our TCA Elementary Campus and/or TCA Secondary Campus with a TCA administrator. You can ask questions\, see classes and our excellent facilities\, and have one-on-one time with one of our principals or other admin team members.\n\nPlease visit https://tcs.client.renweb.com/oa/inquiry.cfm?memberid=2391 and fill out our inquiry form to plan your visit.\n\nOur elementary building entrance faces I-20\, and our secondary campus is easily accessible by driving past the elementary building and entering the driveway east of our campus. Look for our welcome signs!
X-ALT-DESC;FMTTYPE=text/html:<div>Trinity Christian Academy is a college-preparatory Christian school founded in 1993. TCA is an independently operating school with a separate board and administration that provides Christ-centered leadership for a staff of 90-100 men and women. We have the capacity to serve a student body of approximately 550 students in grades PK3-12.</div>\n\n<div>If you are interested in joining our TCA family\, we would love to have you join us for Preview Day on January 24th.</div>\n\n<div>TCAs Preview Day allows you to tour both our TCA Elementary Campus and/or TCA Secondary Campus with a TCA administrator. You can ask questions\, see classes and our excellent facilities\, and have one-on-one time with one of our principals or other admin team members.</div>\n\n<div>Please visit&nbsp\;<a class="x1i10hfl xjbqb8w x1ejq31n xd10rxx x1sy0etr x17r0tee x972fbf xcfux6l x1qhh985 xm0m39n x9f619 x1ypdohk xt0psk2 xe8uvvx xdj266r x11i5rnm xat24cr x1mh8g0r xexx8yu x4uap5 x18d9i69 xkhd6sd x16tdsg8 x1hl2dhg xggy1nq x1a2a7pz x1sur9pj xkrqix3 x1fey0fg x1s688f" href="https://tcs.client.renweb.com/oa/inquiry.cfm?memberid=2391&amp\;fbclid=IwZXh0bgNhZW0CMTAAAR0HW3FVMG0a7WabPOExG3BGCWjZPfQdlbEJhjkJt8i2_4uYgzcnAeOhTwk_aem_6enwkJGmSAOMiZ8xdRb7PQ" rel="nofollow noreferrer" style="cursor: pointer\; text-decoration-line: none\; list-style: none\; margin: 0px\; text-align: inherit\; border-style: none\; padding: 0px\; box-sizing: border-box\; border-width: 0px\; outline: none\; -webkit-tap-highlight-color: transparent\; font-weight: 600\; touch-action: manipulation\; background-color: transparent\; display: inline\; font-family: inherit\;" tabindex="0" target="_blank">https://tcs.client.renweb.com/oa/inquiry.cfm?memberid=2391</a>&nbsp\;and fill out our inquiry form to plan your visit.</div>\n\n<div>Our elementary building entrance faces I-20\, and our secondary campus is easily accessible by driving past the elementary building and entering the driveway east of our campus. Look for our welcome signs!</div>\n
LOCATION:Trinity Christian Academy 4964 E. I-20 Service Road S. Willow Park\, TX 76087
UID:e.2477.20070
SEQUENCE:3
DTSTAMP:20260423T132414Z
URL:http://business.parkercountychamber.com/events/details/trinity-christian-academy-preview-day-20070
END:VEVENT

END:VCALENDAR
