BEGIN:VCALENDAR
VERSION:2.0
PRODID:-//ChamberMaster//Event Calendar 2.0//EN
METHOD:PUBLISH
X-PUBLISHED-TTL:P3D
REFRESH-INTERVAL:P3D
CALSCALE:GREGORIAN
BEGIN:VEVENT
DTSTART:20260614T190000Z
DTEND:20260614T210000Z
X-MICROSOFT-CDO-ALLDAYEVENT:FALSE
SUMMARY:The Taming of the Shrew
DESCRIPTION:The Weatherford College Summer Stage presents\n\n\n\nThe Taming of the Shrew is a Shakespearean comedy about Petruchio's courtship of Katherina (Kate)\, a headstrong woman considered a "shrew." Petruchio uses psychological tricks to "tame" her into a submissive wife\, while a subplot follows the wooing of her sister\, Bianca\, by various suitors.\n\n\n\nThe play explores gender\, social hierarchy\, and marriage\, ending with a wager where Kate proves to be the most obedient wife.\n\n\n\nDirected by Aiden Endy.\n\n\n\nFree Admission.
X-ALT-DESC;FMTTYPE=text/html:<span style="color:rgb(49\, 49\, 49)\; font-family:arial\,helvetica\,verdana\,tahoma\,sans-serif">The Weatherford College Summer Stage presents</span><br />\n<br />\n<em>The Taming of the Shrew</em><span style="color:rgb(49\, 49\, 49)\; font-family:arial\,helvetica\,verdana\,tahoma\,sans-serif">&nbsp\;is&nbsp\;a Shakespearean comedy about Petruchio&rsquo\;s courtship of Katherina (Kate)\, a headstrong woman considered a &quot\;shrew.&quot\; Petruchio uses psychological tricks to &quot\;tame&quot\; her into a submissive wife\, while a subplot follows the wooing of her sister\, Bianca\, by various suitors.</span><br />\n<br />\n<span style="color:rgb(49\, 49\, 49)\; font-family:arial\,helvetica\,verdana\,tahoma\,sans-serif">The play explores gender\, social hierarchy\, and marriage\, ending with a wager where Kate proves to be the most obedient wife.</span><br />\n<br />\n<span style="color:rgb(49\, 49\, 49)\; font-family:arial\,helvetica\,verdana\,tahoma\,sans-serif">Directed by&nbsp\;</span><strong>Aiden Endy</strong><span style="color:rgb(49\, 49\, 49)\; font-family:arial\,helvetica\,verdana\,tahoma\,sans-serif">.</span><br />\n<br />\n<span style="color:rgb(49\, 49\, 49)\; font-family:arial\,helvetica\,verdana\,tahoma\,sans-serif">Free Admission.</span>
LOCATION:Weatherford College Alkek Fine Arts Center 225 College Park Dr Weatherford\, TX 76086
UID:e.2477.21948
SEQUENCE:3
DTSTAMP:20260425T014329Z
URL:http://business.parkercountychamber.com/events/details/the-taming-of-the-shrew-06-14-2026-21948
END:VEVENT

END:VCALENDAR
