BEGIN:VCALENDAR
VERSION:2.0
PRODID:-//ChamberMaster//Event Calendar 2.0//EN
METHOD:PUBLISH
X-PUBLISHED-TTL:P3D
REFRESH-INTERVAL:P3D
CALSCALE:GREGORIAN
BEGIN:VEVENT
DTSTART;VALUE=DATE:20250421
DTEND;VALUE=DATE:20250422
TRANSP:TRANSPARENT
X-MICROSOFT-CDO-ALLDAYEVENT:TRUE
SUMMARY:THE SPONGEBOB MUSICAL: YOUTH EDITION AUDITIONS
DESCRIPTION:THE SPONGEBOB MUSICAL: YOUTH EDITION\n\n\n\nAuditions Link: https://docs.google.com/forms/d/e/1FAIpQLSf0w7YARfwRjd2eey_BVswA8wG0RwP6pXScfmoZKLAHD97JIA/viewform\n\nAuditions:\n\nApril 21: Video Auditions Due\n\nApril 27: In-person Callbacks @ 1 - 4 at Alkek\n\n\n\nPick Up Rehearsals:\n\nMay 3 @ 1 p.m. - 4 p.m.\n\nMay 10 @ 1 p.m. - 4 p.m.\n\nMay 24 @ 1 p.m. - 4 p.m.\n\n\n\nCamp: May 26-May 30 from 9:00 am - 5:00 pm\n\n\n\nPerformances:\n\nFriday\, May 30 @ 7:00 pm\n\nSaturday\, May 31 @ 3:00 pm and 7:00 pm\n\nSunday\, June 1 @ 3:00 pm\n\nTHE SPONGEBOB MUSICAL: YOUTH EDITION is presented by arrangement with Concord Theatricals.\n\nwww.concordtheatricals.com
X-ALT-DESC;FMTTYPE=text/html:<div>\n<p><strong>THE SPONGEBOB MUSICAL: YOUTH EDITION</strong><br />\n<br />\n<strong>Auditions Link:</strong> https://docs.google.com/forms/d/e/1FAIpQLSf0w7YARfwRjd2eey_BVswA8wG0RwP6pXScfmoZKLAHD97JIA/viewform</p>\n\n<p><strong>Auditions:</strong><br />\nApril 21: Video Auditions Due<br />\nApril 27: In-person Callbacks @ 1 - 4 at Alkek<br />\n<br />\n<strong>Pick Up Rehearsals:</strong><br />\nMay 3 @ 1 p.m. - 4 p.m.<br />\nMay 10 @ 1 p.m. - 4 p.m.<br />\nMay 24 @ 1 p.m. - 4 p.m.<br />\n<br />\n<strong>Camp:&nbsp\;</strong>May 26-May 30 from 9:00 am - 5:00 pm<br />\n<br />\n<strong>Performances:</strong><br />\nFriday\, May 30 @ 7:00 pm<br />\nSaturday\, May 31 @ 3:00 pm and 7:00 pm<br />\nSunday\, June 1 @ 3:00 pm</p>\n\n<p>THE SPONGEBOB MUSICAL: YOUTH EDITION is presented by arrangement with Concord Theatricals.<br />\n<a href="https://www.concordtheatricals.com/" style="color: var(--mc-link)\;">www.concordtheatricals.com</a></p>\n</div>\n\n<p>&nbsp\;</p>\n
LOCATION:Weatherford College Alkek Fine Arts Center 225 College Park Dr. Weatherford\, TX 76086
UID:e.2477.20344
SEQUENCE:3
DTSTAMP:20260423T085719Z
URL:http://business.parkercountychamber.com/events/details/the-spongebob-musical-youth-edition-auditions-20344
END:VEVENT

END:VCALENDAR
