BEGIN:VCALENDAR
VERSION:2.0
PRODID:-//ChamberMaster//Event Calendar 2.0//EN
METHOD:PUBLISH
X-PUBLISHED-TTL:P3D
REFRESH-INTERVAL:P3D
CALSCALE:GREGORIAN
BEGIN:VEVENT
DTSTART:20210726T003000Z
DTEND:20210726T020000Z
X-MICROSOFT-CDO-ALLDAYEVENT:FALSE
SUMMARY:The Rainbow Fish Musical
DESCRIPTION:Theatre Off The Square in Weatherford proudly presents their annual youth production\, The Rainbow Fish Musical\; book\, music\, and lyrics by Austin Zumbro\; adapted from the book by Marcus Pfister\; translated into English by J. Alison James\; and presented by special arrangement with Pioneer Drama\, Inc. This production is directed by Wally Jones\, with Laurie Jones as Assistant Director\, Clara Chestnut as Music Director\, and Jessica Michel as Stage Manager.  The Rainbow Fish Musical begins Friday\, July 23 and runs two weekends through August 1.\n\n \n\nInterpreter Services will be provided at the performance on Friday\, July 30 at 7:30 pm. Services are provided through a partnership with the American Sign Language Interpreting Program of Tarrant County College Trinity River Campus.\n\n \n\nWith shiny\, multi-colored scales\, Rainbow Fish is the most beautiful fish in all of the ocean\, and the only one of his (or her!) kind. When Rainbow Fish refuses to share his vibrant\, shimmering scales\, the whole ocean seems to turn against the vain creature. Unhappy that no one adores him anymore\, the Rainbow Fish seeks out the wise Octopus\, who helps him learn that it's far better to be admired for being kind than for being beautiful.\n\n \n\nMembers of the cast are:  Rainbow Fish - Tyler Anne Leatherman\, Little Fish - Kinley Morrow\, Starfish - Jodi Oesterle\, Ms. Minnow - Braelynn Flores\, Octopus - Mia Currie\, Pufferfish - Joel Eastburn\, Hermit Crab - Mark Williams\, Sardine - Emily Haynes\, Clownfish - Logan Morrow\, and Announcer - Matthew Foster.\n\nEnsemble: Ava Bridges\, Blakely Britton\, Rachel Eastburn\, Emily Flores\, Matthew Foster\, Mallory Legg\, Kailey Haynes\, Wade Haynes\, Jessa Oesterle\, Addison Rooks\, Sara Watson\n\nTentacles:  Ava Bridges\, Blakely Britton\, Rachel Eastburn\, Emily Flores\, Mallory Legg\, Bailey Michel\, Addison Rooks\, Sara Watson
X-ALT-DESC;FMTTYPE=text/html:<span style="font-family:times new roman\,serif">Theatre Off The Square in Weatherford proudly presents their annual youth production<em>\, The Rainbow Fish Musical</em>\;</span><span style="font-family:times new roman\,serif"> book\, music\, and lyrics by Austin Zumbro\; adapted from the book by Marcus Pfister\; translated into English by J. Alison James\; and presented by special arrangement with Pioneer Drama\, Inc. </span><span style="font-family:times new roman\,serif">This production is directed by Wally Jones\, with Laurie Jones as Assistant Director\, Clara Chestnut as Music Director\, and Jessica Michel as Stage Manager.&nbsp\; <em>The Rainbow Fish Musical</em> begins Friday\, July 23 and runs two weekends through August 1.</span><br />\n&nbsp\;<br />\n<span style="font-family:times new roman\,serif">Interpreter Services will be provided at the performance on Friday\, July 30 at 7:30 pm. Services are provided through a partnership with the American Sign Language Interpreting Program of Tarrant County College Trinity River Campus.</span><br />\n&nbsp\;<br />\n<span style="font-family:times new roman\,serif">With shiny\, multi-colored scales\, Rainbow Fish is the most beautiful fish in all of the ocean\, and the only one of his (or her!) kind. When Rainbow Fish refuses to share his vibrant\, shimmering scales\, the whole ocean seems to turn against the vain creature. Unhappy that no one adores him anymore\, the Rainbow Fish seeks out the wise Octopus\, who helps him learn that it&rsquo\;s far better to be admired for being kind than for being beautiful.</span><br />\n&nbsp\;<br />\n<span style="font-family:times new roman\,serif">Members of the cast are:&nbsp\; Rainbow Fish - Tyler Anne Leatherman\, Little Fish - Kinley Morrow\, Starfish - Jodi Oesterle\, Ms. Minnow - Braelynn Flores\, Octopus - Mia Currie\, Pufferfish - Joel Eastburn\, Hermit Crab - Mark Williams\, Sardine - Emily Haynes\, Clownfish - Logan Morrow\, and Announcer - Matthew Foster.</span><br />\n<span style="font-family:times new roman\,serif">Ensemble:</span> <span style="font-family:times new roman\,serif">Ava Bridges\, Blakely Britton\, Rachel Eastburn\, Emily Flores\, Matthew Foster\, Mallory Legg\, Kailey Haynes\, Wade Haynes\, Jessa Oesterle\, Addison Rooks\, Sara Watson<br />\nTentacles:&nbsp\; Ava Bridges\, Blakely Britton\, Rachel Eastburn\, Emily Flores\, Mallory Legg\, Bailey Michel\, Addison Rooks\, Sara Watson</span><br />\n&nbsp\;
LOCATION:Theatre Off The Square 114 North Denton Street Weatherford
UID:e.2477.15514
SEQUENCE:3
DTSTAMP:20260426T041723Z
URL:http://business.parkercountychamber.com/events/details/the-rainbow-fish-musical-07-25-2021-15514
END:VEVENT

END:VCALENDAR
