BEGIN:VCALENDAR
VERSION:2.0
PRODID:-//ChamberMaster//Event Calendar 2.0//EN
METHOD:PUBLISH
X-PUBLISHED-TTL:P3D
REFRESH-INTERVAL:P3D
CALSCALE:GREGORIAN
BEGIN:VEVENT
DTSTART:20260321T000000Z
DTEND:20260321T023000Z
X-MICROSOFT-CDO-ALLDAYEVENT:FALSE
SUMMARY:The Promise of Passover
DESCRIPTION:The Promise proudly presents our annual spring production The Promise of Passover - See the story of Jesus come to life through the eyes of the blind man Bartimaeus and his family. Witness Jesus's ministry\, death\, and resurrection with incredible music\, live animals\, and amazing special effects. \n\n \n\nBringing the whole family? Use code FAMILYNIGHT26 to save $ on a minimum of 3 tickets. \n\n \n\nShows run March 20th through April 4th with both matinee and evening performances available.
X-ALT-DESC;FMTTYPE=text/html:<div><span style="color:rgb(0\, 0\, 0)\; font-family:-apple-system\,blinkmacsystemfont\,segoe ui\,roboto\,helvetica\,arial\,sans-serif\,apple color emoji\,segoe ui emoji\,segoe ui symbol\; font-size:13px">The Promise proudly presents our annual spring production The Promise of Passover - See the story of Jesus come to life through the eyes of the blind man Bartimaeus and his family. Witness Jesus&#39\;s ministry\, death\, and resurrection with incredible music\, live animals\, and amazing special effects.&nbsp\;</span></div>\n\n<div>&nbsp\;</div>\n\n<div><span style="color:rgb(0\, 0\, 0)\; font-family:-apple-system\,blinkmacsystemfont\,segoe ui\,roboto\,helvetica\,arial\,sans-serif\,apple color emoji\,segoe ui emoji\,segoe ui symbol\; font-size:13px">Bringing the whole family? Use code FAMILYNIGHT26 to save $ on a minimum&nbsp\;of 3 tickets.&nbsp\;</span></div>\n\n<div>&nbsp\;</div>\n\n<div><span style="color:rgb(0\, 0\, 0)\; font-family:-apple-system\,blinkmacsystemfont\,segoe ui\,roboto\,helvetica\,arial\,sans-serif\,apple color emoji\,segoe ui emoji\,segoe ui symbol\; font-size:13px">Shows run March 20th through April 4th with both matinee and evening performances available.</span></div>\n
LOCATION:Performed at Willow Park Baptist Church 777 Crown Pointe Blvd Willow Park\, Texas\, 76087
UID:e.2477.21882
SEQUENCE:3
DTSTAMP:20260422T194345Z
URL:http://business.parkercountychamber.com/events/details/the-promise-of-passover-21882
END:VEVENT

END:VCALENDAR
