BEGIN:VCALENDAR
VERSION:2.0
PRODID:-//ChamberMaster//Event Calendar 2.0//EN
METHOD:PUBLISH
X-PUBLISHED-TTL:P3D
REFRESH-INTERVAL:P3D
CALSCALE:GREGORIAN
BEGIN:VEVENT
DTSTART:20251206T200000Z
DTEND:20251207T030000Z
X-MICROSOFT-CDO-ALLDAYEVENT:FALSE
SUMMARY:The Promise of Christmas
DESCRIPTION:Now in its 37th year of telling the story of Jesus through breathtaking musical productions\, The Promise is now closer than ever before! We are thrilled to announce our productions have found a new home at Willow Park Baptist Church\, just minutes from Fort Worth on I20. \n\n \n\n\nThe Promise of Christmas tells the story of God's faithfulness to Elizabeth and Zechariah\, Mary and Joseph\, and ultimately to all of Creation in keeping His promise to send Jesus - the Light of the World. With a cast of over 100 actors\, incredible visual effects\, and now an INDOOR location that allows for weather-proof performances and matinees\, The Promise is a wonderful way to share the joy of Christmas with your family and friends. \n\nTickets are on sale now - Adult tickets range from $25 -$50 with discounts for Seniors\, Military\, Children\, and groups!  \n\n\n\nPerformances run from December 5th through December 23rd with showtimes at 7pm on Fridays and 2pm and 7pm on Saturdays.
X-ALT-DESC;FMTTYPE=text/html:<div>Now in its 37th year of telling the story of Jesus through breathtaking musical productions\, The Promise is now closer than ever before! We are thrilled to announce our productions have found a new home at Willow Park Baptist Church\, just minutes from Fort Worth on I20.&nbsp\;</div>\n\n<div>&nbsp\;</div>\n\n<div>\n<p>The Promise of Christmas tells the story of God&#39\;s faithfulness to Elizabeth and Zechariah\, Mary and Joseph\, and ultimately to all of Creation in keeping His promise to send Jesus - the Light of the World. With a cast of over 100 actors\, incredible visual effects\, and now an INDOOR location that allows for weather-proof performances and matinees\, The Promise is a wonderful way to share the joy of Christmas with your family and friends.&nbsp\;</p>\n\n<p>Tickets are on sale now - Adult tickets range from $25 -$50 with discounts for Seniors\, Military\, Children\, and groups!&nbsp\;&nbsp\;<br />\n<br />\nPerformances run from December 5th through December 23rd with showtimes at 7pm on Fridays and 2pm and 7pm on Saturdays.</p>\n</div>\n
LOCATION:Willow Park Baptist Church 777 Crown Pointe Blvd Willow Park Texas\, 76087
UID:e.2477.20974
SEQUENCE:3
DTSTAMP:20260423T090046Z
URL:http://business.parkercountychamber.com/events/details/the-promise-of-christmas-12-07-2025-20974
END:VEVENT

END:VCALENDAR
