BEGIN:VCALENDAR
VERSION:2.0
PRODID:-//ChamberMaster//Event Calendar 2.0//EN
METHOD:PUBLISH
X-PUBLISHED-TTL:P3D
REFRESH-INTERVAL:P3D
CALSCALE:GREGORIAN
BEGIN:VEVENT
DTSTART:20241015T170000Z
DTEND:20241015T173000Z
X-MICROSOFT-CDO-ALLDAYEVENT:FALSE
SUMMARY:The Power of Budgeting - Virtual
DESCRIPTION:Unleash the potential to achieve your goals with the help of a budget.\n\n\n\nJoin us for our presentation Power of Budgeting as we explore:\n\n\n\nWants versus needs\n\nSaving and spending goals\n\nBudget strategies\n\n\n\nPlease RSVP below or call us today to let us know if you and a guest will attend.\n\n\n\nPrior to the event we will send you instructions on how to join.\n\n\n\nWhen\n\n\n\nOct. 15\, 202412:00 pm - 12:30 pm
X-ALT-DESC;FMTTYPE=text/html:Unleash the potential to achieve your goals with the help of a budget.<br />\n<br />\nJoin us for our presentation&nbsp\;Power of Budgeting&nbsp\;as we explore:<br />\n<br />\nWants versus needs<br />\nSaving and spending goals<br />\nBudget strategies<br />\n<br />\nPlease RSVP below or call us today to let us know if you and a guest will attend.<br />\n<br />\nPrior to the event we will send you instructions on how to join.<br />\n<br />\nWhen<br />\n<br />\nOct. 15\, 202412:00 pm - 12:30 pm
LOCATION:
UID:e.2477.19759
SEQUENCE:3
DTSTAMP:20260423T211547Z
URL:http://business.parkercountychamber.com/events/details/the-power-of-budgeting-virtual-19759
END:VEVENT

END:VCALENDAR
