BEGIN:VCALENDAR
VERSION:2.0
PRODID:-//ChamberMaster//Event Calendar 2.0//EN
METHOD:PUBLISH
X-PUBLISHED-TTL:P3D
REFRESH-INTERVAL:P3D
CALSCALE:GREGORIAN
BEGIN:VEVENT
DTSTART:20220528T010000Z
DTEND:20220528T030000Z
X-MICROSOFT-CDO-ALLDAYEVENT:FALSE
SUMMARY:The Musical Comedy Murders of 1940
DESCRIPTION:Are you ready to have some fun?\n\nOPENING May 27!\n\nThe Musical Comedy Murders of 1940 by John Bishop\n\nProduced by special arrangement with Dramatists Play Service\, Inc.\n\n\n\nMay 27   June 12\, 2022   Fri. & Sat. at 8 pm\, Sun. at 2 pm\n\nTheatre Off The Square\, 114 N. Denton\, Weatherford 817-341-8687  www.theatreoffthesquare.org\n\n \n\nDirected by Seth Hunter Williams\n\nAssistant Director:   Jesse James\n\nStage Managers:  Isabel Delgado & Lohi Ejere\n\n \n\nThe creative team responsible for a recent Broadway flop (in which three chorus girls were murdered by the mysterious "Stage Door Slasher") assemble for a backer's audition of their new show at the Westchester estate of a wealthy "angel." The house is replete with sliding panels\, secret passageways\, and a German maid who is apparently four different people all of which figure diabolically in the comic mayhem which follows when the infamous "Slasher" makes his reappearance and strikes again and again. As the composer\, lyricist\, actors\, and director prepare their performance\, and a blizzard cuts off any possible retreat\, bodies start to drop in plain sight\, knives spring out of nowhere\, masked figures drag their victims behind swiveling bookcases\, and accusing fingers point in all directions. However\, and with no thanks to the bumbling police inspector who snowshoes in to investigate\, the mystery is solved in the nick of time and the "Slasher" unmasked but not before the audience has been treated to a sidesplitting good time and a generous serving of the author's biting\, satiric\, and refreshingly irreverent wit.\n\n \n\nCAST:\n\n	Helsa Wenzel - Hannah Bell\n	Elsa Von Grossenknueten - Darla Robinson\n	Michael Kelly - John Robinson\n	Patrick O'Reilly   Garrett Tucker\n	Ken De La Maize - Thomas Vigil\n	Nikki Crandall - Annie Robertson\n	Eddie McCuen   Thomas Collins\n	Marjorie Baverstock - Lee Ann Ausec\n	Roger Hopewell   Shannon Moore\n	Bernice Roth - Jaclyn Justice\n	Bebe McAllister - Jenny Ingle
X-ALT-DESC;FMTTYPE=text/html:<strong>Are you ready to have some fun?</strong><br />\n<strong>OPENING May 27!</strong><br />\n<strong><span style="color:black">The Musical Comedy Murders of 1940</span></strong> <strong>by John Bishop</strong><br />\nProduced by special arrangement with Dramatists Play Service\, Inc.<br />\n<br />\n<strong>May 27 &ndash\; June 12\, 2022</strong>&nbsp\;&nbsp\; Fri. &amp\; Sat. at 8 pm\, Sun. at 2 pm<br />\n<span style="font-family:calibri\,sans-serif"><span style="font-size:11.0pt">Theatre Off The Square\, 114 N. Denton\, Weatherford 817-341-8687&nbsp\; </span></span><a href="http://www.theatreoffthesquare.org"><span style="font-family:calibri\,sans-serif"><span style="font-size:11.0pt">www.theatreoffthesquare.org</span></span></a><br />\n&nbsp\;<br />\nDirected by Seth Hunter Williams<br />\nAssistant Director:&nbsp\;&nbsp\; <span style="color:black">Jesse James</span><br />\nStage Managers:&nbsp\; Isabel Delgado &amp\; Lohi Ejere<br />\n&nbsp\;<br />\nThe creative team responsible for a recent Broadway flop (in which three chorus girls were murdered by the mysterious &ldquo\;Stage Door Slasher&quot\;) assemble for a backer&rsquo\;s audition of their new show at the Westchester estate of a wealthy &ldquo\;angel.&rdquo\; The house is replete with sliding panels\, secret passageways\, and a German maid who is apparently four different people&mdash\;all of which figure diabolically in the comic mayhem which follows when the infamous &ldquo\;Slasher&rdquo\; makes his reappearance and strikes again&mdash\;and again. As the composer\, lyricist\, actors\, and director prepare their performance\, and a blizzard cuts off any possible retreat\, bodies start to drop in plain sight\, knives spring out of nowhere\, masked figures drag their victims behind swiveling bookcases\, and accusing fingers point in all directions. However\, and with no thanks to the bumbling police inspector who snowshoes in to investigate\, the mystery is solved in the nick of time and the &ldquo\;Slasher&rdquo\; unmasked&mdash\;but not before the audience has been treated to a sidesplitting good time and a generous serving of the author&rsquo\;s biting\, satiric\, and refreshingly irreverent wit.<br />\n&nbsp\;<br />\n<strong>CAST:</strong>\n<ul>\n	<li>Helsa Wenzel - Hannah Bell</li>\n	<li>Elsa Von Grossenknueten - Darla Robinson</li>\n	<li>Michael Kelly - John Robinson</li>\n	<li>Patrick O&#39\;Reilly &ndash\; Garrett Tucker</li>\n	<li>Ken De La Maize - Thomas Vigil</li>\n	<li>Nikki Crandall - Annie Robertson</li>\n	<li>Eddie McCuen &ndash\; Thomas Collins</li>\n	<li>Marjorie Baverstock - Lee Ann Ausec</li>\n	<li>Roger Hopewell &ndash\; Shannon Moore</li>\n	<li>Bernice Roth - Jaclyn Justice</li>\n	<li>Bebe McAllister - Jenny Ingle</li>\n</ul>\n
LOCATION:Theatre Off The Square 114 North Denton St. Weatherford 76086
UID:e.2477.17775
SEQUENCE:3
DTSTAMP:20260425T144444Z
URL:http://business.parkercountychamber.com/events/details/the-musical-comedy-murders-of-1940-17775
END:VEVENT

END:VCALENDAR
