BEGIN:VCALENDAR
VERSION:2.0
PRODID:-//ChamberMaster//Event Calendar 2.0//EN
METHOD:PUBLISH
X-PUBLISHED-TTL:P3D
REFRESH-INTERVAL:P3D
CALSCALE:GREGORIAN
BEGIN:VEVENT
DTSTART:20250426T153000Z
DTEND:20250426T170000Z
X-MICROSOFT-CDO-ALLDAYEVENT:FALSE
SUMMARY:The Lecture Series---Parker County Historical Commission
DESCRIPTION:Brenda McClurkin\, former Head of Special Collections at UTA Arlington Libraries\, discusses her inadvertent discovery of the Chandor guest book and the treasure trove of famous signatures inscribed.
X-ALT-DESC;FMTTYPE=text/html:Brenda McClurkin\, former Head of Special Collections at UTA Arlington Libraries\, discusses her inadvertent discovery of the Chandor guest book and the treasure trove of famous signatures inscribed.&nbsp\;
LOCATION:Jazz Chapel---117 College Avenue\, Weatherford\, Texas.
UID:e.2477.20352
SEQUENCE:3
DTSTAMP:20260423T085721Z
URL:http://business.parkercountychamber.com/events/details/the-lecture-series-parker-county-historical-commission-20352
END:VEVENT

END:VCALENDAR
