BEGIN:VCALENDAR
VERSION:2.0
PRODID:-//ChamberMaster//Event Calendar 2.0//EN
METHOD:PUBLISH
X-PUBLISHED-TTL:P3D
REFRESH-INTERVAL:P3D
CALSCALE:GREGORIAN
BEGIN:VEVENT
DTSTART:20250726T153000Z
DTEND:20250726T170000Z
X-MICROSOFT-CDO-ALLDAYEVENT:FALSE
SUMMARY:The Lecture Series---Parker County Historical Commission
DESCRIPTION:For the second installment of the PCHC's\, The Lecture Series\, Lanie Garmon will discuss her father\, Homer Norris\, and the role he played in the preservation of East Parker County history. The presentation will also discuss his discovery of two 1\,000 year old Pre-Columbian burials\, their journey to the Smithsonian and their return home to Texas. There is no cost to attend.
X-ALT-DESC;FMTTYPE=text/html:<span style="color:rgb(0\, 0\, 0)\; font-family:source sans pro\,helvetica\,tahoma\,geneva\,arial\,sans-serif\; font-size:16px">For the second installment of the PCHC&#39\;s\, The Lecture Series\, Lanie Garmon will discuss her father\, Homer Norris\, and the role he played in the preservation of East Parker County history. The presentation will also discuss his discovery of two 1\,000 year old Pre-Columbian burials\, their journey to the Smithsonian and their return home to Texas. There is no cost to attend.&nbsp\;</span>
LOCATION:Parker County Courthouse Commissioners Court 1 Courthouse Square Weatherford\, Texas 76086
UID:e.2477.20594
SEQUENCE:3
DTSTAMP:20260423T042816Z
URL:http://business.parkercountychamber.com/events/details/the-lecture-series-parker-county-historical-commission-07-26-2025-20594
END:VEVENT

END:VCALENDAR
