BEGIN:VCALENDAR
VERSION:2.0
PRODID:-//ChamberMaster//Event Calendar 2.0//EN
METHOD:PUBLISH
X-PUBLISHED-TTL:P3D
REFRESH-INTERVAL:P3D
CALSCALE:GREGORIAN
BEGIN:VEVENT
DTSTART:20260321T153000Z
DTEND:20260321T170000Z
X-MICROSOFT-CDO-ALLDAYEVENT:FALSE
SUMMARY:The Lecture Series---Parker County Historical Commission
DESCRIPTION:Join us for an installment of The Lecture Series\, featuring Jeannine Kuhnell-an accomplished author\, speaker\, community advocate and blogger. Jeannine will present "Three Miles South of the Courthouse: Interpreting the Parker County Poor Farm." In 1883\, the county established the Poor Farm\, but careful comparison of census data\, burial contracts\, and physical grave markers has revealed inconsistencies. What are the mysteries of these inconsistencies? How do they change our understanding of the Poor Farm and its history? Join us to delve into this fascinating story and uncover more about the complex history of Parker County\, Texas.
X-ALT-DESC;FMTTYPE=text/html:<span style="background-color:rgb(37\, 39\, 40)\; color:rgb(226\, 229\, 233)\; font-family:system-ui\,-apple-system\,blinkmacsystemfont\,.sfnstext-regular\,sans-serif\; font-size:15px">Join us for an installment of The Lecture Series\, featuring Jeannine Kuhnell-an accomplished author\, speaker\, community advocate and blogger. Jeannine will present &ldquo\;Three Miles South of the Courthouse: Interpreting the Parker County Poor Farm.&rdquo\; In 1883\, the county established the Poor Farm\, but careful comparison of census data\, burial contracts\, and physical grave markers has revealed inconsistencies. What are the mysteries of these inconsistencies? How do they change our understanding of the Poor Farm and its history? Join us to delve into this fascinating story and uncover more about the complex history of Parker County\, Texas.</span><span style="background-color:rgb(37\, 39\, 40)\; color:rgb(226\, 229\, 233)\; font-family:system-ui\,-apple-system\,blinkmacsystemfont\,.sfnstext-regular\,sans-serif\; font-size:15px"> </span>
LOCATION:Central Christian Church 1602 S Main Street Weatherford\, Texas 76086
UID:e.2477.21871
SEQUENCE:3
DTSTAMP:20260421T032511Z
URL:http://business.parkercountychamber.com/events/details/the-lecture-series-parker-county-historical-commission-03-21-2026-21871
END:VEVENT

END:VCALENDAR
