BEGIN:VCALENDAR
VERSION:2.0
PRODID:-//ChamberMaster//Event Calendar 2.0//EN
METHOD:PUBLISH
X-PUBLISHED-TTL:P3D
REFRESH-INTERVAL:P3D
CALSCALE:GREGORIAN
BEGIN:VEVENT
DTSTART:20250411T223000Z
DTEND:20250412T003000Z
X-MICROSOFT-CDO-ALLDAYEVENT:FALSE
SUMMARY:The Hoppin' COHO - Annual Easter Egg Hunt
DESCRIPTION:Get ready for a hoppin' evening of FREE Easter fun! There will be activities\, giveaways and thousands of eggs to hunt! Follow the event page on our Facebook page for the latest details on the event and egg hunt times.\n\nEVENT DETAILS:\n\n\n	Community Booths\n	Petting Zoo\n	Pictures with the Easter Bunny\n	Firetruck & Police Car\n	Lots of Giveaways\n	DJ Dance Party\n	Food Trucks \n\n\nEGG HUNT AGES & TIMES:\n\n\n	Ages 1-3 @ 6:00pm\n	Ages 4-6 @ 6:15pm\n	Ages 7-9 @ 6:30pm\n	Ages 10-12 @ 6:45pm
X-ALT-DESC;FMTTYPE=text/html:<p>Get ready for a hoppin&#39\; evening of FREE Easter fun! There will be activities\, giveaways and thousands of eggs to hunt! Follow the event page on our Facebook <a href="https://www.facebook.com/events/1263835518055291?acontext=%7B%22event_action_history%22%3A[]%7D">page</a> for the latest details on the event and egg hunt times.</p>\n\n<p><strong>EVENT DETAILS:</strong></p>\n\n<ul>\n	<li>Community Booths</li>\n	<li>Petting Zoo</li>\n	<li>Pictures with the Easter Bunny</li>\n	<li>Firetruck &amp\; Police Car</li>\n	<li>Lots of Giveaways</li>\n	<li>DJ Dance Party</li>\n	<li>Food Trucks&nbsp\;</li>\n</ul>\n\n<p><strong>EGG HUNT AGES &amp\; TIMES:</strong></p>\n\n<ul>\n	<li>Ages 1-3 @ 6:00pm</li>\n	<li>Ages 4-6 @ 6:15pm</li>\n	<li>Ages 7-9 @ 6:30pm</li>\n	<li>Ages 10-12 @ 6:45pm&nbsp\;</li>\n</ul>\n
LOCATION:Gene L. Voyles Park 210 Hudson Oaks Drive Hudson Oaks\, Texas 76087
UID:e.2477.20303
SEQUENCE:3
DTSTAMP:20260423T085446Z
URL:http://business.parkercountychamber.com/events/details/the-hoppin-coho-annual-easter-egg-hunt-20303
END:VEVENT

END:VCALENDAR
