BEGIN:VCALENDAR
VERSION:2.0
PRODID:-//ChamberMaster//Event Calendar 2.0//EN
METHOD:PUBLISH
X-PUBLISHED-TTL:P3D
REFRESH-INTERVAL:P3D
CALSCALE:GREGORIAN
BEGIN:VEVENT
DTSTART:20220409T150000Z
DTEND:20220409T170000Z
X-MICROSOFT-CDO-ALLDAYEVENT:FALSE
SUMMARY:THE HOPPIN' COHO
DESCRIPTION:A community Easter Egg hunt for all ages hosted by the City of Hudson Oaks and Film Alley. Including vendors\, live music\, and a visit from the Easter Bunny! One special egg in each age group has the chance to win bowling at Film Alley for the year! Visit the event page for more details.
X-ALT-DESC;FMTTYPE=text/html:<span style="color:rgb(5\, 5\, 5)\; font-family:system-ui\,-apple-system\,system-ui\,.sfnstext-regular\,sans-serif\; font-size:15px">A community Easter Egg hunt for all ages hosted by the City of Hudson Oaks and Film Alley. Including vendors\, live music\, and a visit from the Easter Bunny! One special egg in each age group has the chance to win bowling at Film Alley for the year! Visit the event page for more details.&nbsp\;</span>
LOCATION:Gene Voyles Park 210 Hudson Oaks Dr. Hudson Oaks\, TX 76087
UID:e.2477.17519
SEQUENCE:3
DTSTAMP:20260425T154218Z
URL:http://business.parkercountychamber.com/events/details/the-hoppin-coho-17519
END:VEVENT

END:VCALENDAR
